Workbook

Sheet Foglio1
A1: N. ATLETI | B1: COGNOME | C1: NOME | D1: SESSO | E1: PALMA CAMPANIA 04.01.2026 LIBERA | F1: ACERRA 06.01.2026 LIBERA | G1: MARIGLIANO 11.01.2026 CONSIGLIATA | H1: SANT'ANTONIO AB 18.01.2026 SOCIETARIA | I1: NOCERA INF 25.01.2026 LIBERA 10KM | J1: NOCERA INF 25.01.2026 LIBERA 21KM | K1: VICO EQUENSE 01.02.2026 LIBERA 16KM | L1: TUFINO 15.02.2026 CONSIGLIATA 10KM | M1: TERNI 15.02.2026 LIBERA 21KM | N1: BARCELLONA 15.02.2026 LIBERA 21KM | O1: NAPOLI 22.02.2026 LIBERA 21KM | P1: BRUSCIANO 01.03.2026 SOCIETARIA 10KM | Q1: CICCIANO 08.03.2026 LIBERA 10KM | R1: SANT'ARPINO 15.03.2026 CONSIGLIATA 10KM | S1: MADRID 22.03.2026 LIBERA 21KM | T1: BACOLI 29.03.2026 SOCIETARIA 10KM | U1: AGROPOLI 12.04.2026 LIBERA 21KM | V1: CASERTA 12.04.2026 LIBERA 10KM | W1: MILANO 12.04.2026 LIBERA 42KM | X1: PARIGI 12.04.2026 LIBERA 42KM | Y1: FRATTAMAGGIORE 19.04.2026 LIBERA 10KM | Z1: MONDRAGONE 2.04.2026 LIBERA 10KM | AA1: AVERSA 26.04.2026 SOCIETARIA 10KM | AB1: VITULAZIO 01.05.026 LIBERA 10KM | AC1: MILANO 01.05.2026 LIBERA 10KM | AD1: MILANO 01.05.2026 LIBERA 21KM | AE1: NOCERA INF. 09.05.2026 PISTA 1500 MT. LIBERA | AF1: PARETE 10.05.2026 CONSIGLIATA 10KM | AG1: ATRIPALDA 10.05.2026 LIBERA 10KM | AH1: CASERTA 17.05.2026 CONSIGLIATA 10KM | AI1: SIANO 23.05.2026 LIBERA | AJ1: CAIVANO 24.05.2026 SOCIETARIA 10KM | AK1: VILLA DI BRIANO 31.05.2026 CONSIGLIATA 10KM | AL1: SAN NICOLA LA STRADA 02.06.2026 LIBERA 10KM | AM1: MADDALONI 07.06.2026 SOCIETARIA 10 KM | AN1: S. ANDREA DEL PIZZONE 14.06.2026 CONS. 10 KM | AO1: ECOMARATONA 14.06.2026 LIBERA 17 KM | AP1: NAPOLI 14.06.2026 LIBERA PISTA 5000 MT | AQ1: SPACCANAPOLI 21.06.2026 LIBERA 8 KM | AR1: AVELLINO 19.06.2026 LIBERA PISTA 3000 MT | AS1: S. AGATA DEI GOTI 20.06.2026 LIBERA 10 KM | AT1: ALVIGNANO 28.06.2026 CONSIGLIATA 10KM | AU1: MARANO 28.06.2026 CONSIGLIATA 10 KM | AV1: COPPA CRISTOFARO 28.06.2026 LIBERA PISTA | AW1: LIMATOLA 05.07.2026 CONSIGLIATA 10 KM | AX1: AVERSA 12.07.2026 SOCIETARIA 10 KM | AY1: 3 COMUNI 19.07.2026 LIBERA 15 KM | AZ1: COPERTINO 19.07.2026 7,5 KM LIBERA | BA1: POZZILLI 01.08.2026 LIBERA 10 KM | BB1: CALVI RISORTA 30.08.2026 LIBERA 8 KM | BC1: S. MARIA C.V. 06.09.2026 CONSIGLIATA 10 KM | BD1: BUDAPEST 06.09.2026 LIBERA 21 KM | BE1: MARCIANISE 13.06.2025 SOCIETARIA 10 KM | BF1: POLLA 13.06.2026 LIBERA 10 KM | BH1: GARE SOCIETARIE | BI1: GARE CONSIGLIATE | BJ1: GARE LIBERE | BK1: TOTALE GARE | BL1: COGNOME | BM1: NOME | BN1: SESSO
A2: 1 | B2: AMATUCCI | C2: FRANCESCO | D2: M | H2: S | O2: L | P2: S | T2: S | U2: L | BE2: S | BH2: {=SUM(LEN(E2:BG2)-LEN(SUBSTITUTE(E2:BG2,"S","")))} -> 4 | BI2: {=SUM(LEN(E2:BG2)-LEN(SUBSTITUTE(E2:BG2,"C","")))} -> 0 | BJ2: {=SUM(LEN(E2:BG2)-LEN(SUBSTITUTE(E2:BG2,"L","")))} -> 2 | BK2: =BJ2+BI2+BH2 -> 6 | BL2: =Foglio1!B2 -> AMATUCCI | BM2: =Foglio1!C2 -> FRANCESCO | BN2: =Foglio1!D2 -> M
A3: =A2+1 -> 2 | B3: AMICO | C3: MASSIMO | D3: M | P3: S | R3: C | T3: S | Y3: L | AA3: S | AH3: C | AJ3: S | AX3: S | BH3: {=SUM(LEN(E3:BG3)-LEN(SUBSTITUTE(E3:BG3,"S","")))} -> 5 | BI3: {=SUM(LEN(E3:BG3)-LEN(SUBSTITUTE(E3:BG3,"C","")))} -> 2 | BJ3: {=SUM(LEN(E3:BG3)-LEN(SUBSTITUTE(E3:BG3,"L","")))} -> 1 | BK3: =BJ3+BI3+BH3 -> 8 | BL3: =Foglio1!B3 -> AMICO | BM3: =Foglio1!C3 -> MASSIMO | BN3: =Foglio1!D3 -> M
A4: =A3+1 -> 3 | B4: ANDREOZZI | C4: MICHELANGELO | D4: M | H4: S | O4: L | T4: S | X4: L | AA4: S | AF4: C | BE4: S | BH4: {=SUM(LEN(E4:BG4)-LEN(SUBSTITUTE(E4:BG4,"S","")))} -> 4 | BI4: {=SUM(LEN(E4:BG4)-LEN(SUBSTITUTE(E4:BG4,"C","")))} -> 1 | BJ4: {=SUM(LEN(E4:BG4)-LEN(SUBSTITUTE(E4:BG4,"L","")))} -> 2 | BK4: =BJ4+BI4+BH4 -> 7 | BL4: =Foglio1!B4 -> ANDREOZZI | BM4: =Foglio1!C4 -> MICHELANGELO | BN4: =Foglio1!D4 -> M
A5: =A4+1 -> 4 | B5: ANGELINO | C5: VINCENZO | D5: M | P5: S | R5: C | S5: L | T5: S | Y5: L | AA5: S | AH5: C | AJ5: S | AM5: S | BH5: {=SUM(LEN(E5:BG5)-LEN(SUBSTITUTE(E5:BG5,"S","")))} -> 5 | BI5: {=SUM(LEN(E5:BG5)-LEN(SUBSTITUTE(E5:BG5,"C","")))} -> 2 | BJ5: {=SUM(LEN(E5:BG5)-LEN(SUBSTITUTE(E5:BG5,"L","")))} -> 2 | BK5: =BJ5+BI5+BH5 -> 9 | BL5: =Foglio1!B5 -> ANGELINO | BM5: =Foglio1!C5 -> VINCENZO | BN5: =Foglio1!D5 -> M
A6: =A5+1 -> 5 | B6: APRILE | C6: ARTURO | D6: M | P6: S | T6: S | AA6: S | AJ6: S | BH6: {=SUM(LEN(E6:BG6)-LEN(SUBSTITUTE(E6:BG6,"S","")))} -> 4 | BI6: {=SUM(LEN(E6:BG6)-LEN(SUBSTITUTE(E6:BG6,"C","")))} -> 0 | BJ6: {=SUM(LEN(E6:BG6)-LEN(SUBSTITUTE(E6:BG6,"L","")))} -> 0 | BK6: =BJ6+BI6+BH6 -> 4 | BL6: =Foglio1!B6 -> APRILE | BM6: =Foglio1!C6 -> ARTURO | BN6: =Foglio1!D6 -> M
A7: =A6+1 -> 6 | B7: ASSOULI | C7: AYMEN | D7: M | T7: S | AA7: S | AH7: C | AX7: S | BE7: S | BH7: {=SUM(LEN(E7:BG7)-LEN(SUBSTITUTE(E7:BG7,"S","")))} -> 4 | BI7: {=SUM(LEN(E7:BG7)-LEN(SUBSTITUTE(E7:BG7,"C","")))} -> 1 | BJ7: {=SUM(LEN(E7:BG7)-LEN(SUBSTITUTE(E7:BG7,"L","")))} -> 0 | BK7: =BJ7+BI7+BH7 -> 5 | BL7: =Foglio1!B7 -> ASSOULI | BM7: =Foglio1!C7 -> AYMEN | BN7: =Foglio1!D7 -> M
A8: =A7+1 -> 7 | B8: BALDASSINI | C8: JESSICA | D8: F | AA8: S | AH8: C | AM8: S | BH8: {=SUM(LEN(E8:BG8)-LEN(SUBSTITUTE(E8:BG8,"S","")))} -> 2 | BI8: {=SUM(LEN(E8:BG8)-LEN(SUBSTITUTE(E8:BG8,"C","")))} -> 1 | BJ8: {=SUM(LEN(E8:BG8)-LEN(SUBSTITUTE(E8:BG8,"L","")))} -> 0 | BK8: =BJ8+BI8+BH8 -> 3 | BL8: =Foglio1!B8 -> BALDASSINI | BM8: =Foglio1!C8 -> JESSICA | BN8: =Foglio1!D8 -> F
A9: =A8+1 -> 8 | B9: BALDIERI | C9: FRANCESCO | D9: M | H9: S | K9: L | O9: L | T9: S | AA9: S | AH9: C | AJ9: S | AM9: S | AX9: S | AY9: L | BE9: S | BH9: {=SUM(LEN(E9:BG9)-LEN(SUBSTITUTE(E9:BG9,"S","")))} -> 7 | BI9: {=SUM(LEN(E9:BG9)-LEN(SUBSTITUTE(E9:BG9,"C","")))} -> 1 | BJ9: {=SUM(LEN(E9:BG9)-LEN(SUBSTITUTE(E9:BG9,"L","")))} -> 3 | BK9: =BJ9+BI9+BH9 -> 11 | BL9: =Foglio1!B9 -> BALDIERI | BM9: =Foglio1!C9 -> FRANCESCO | BN9: =Foglio1!D9 -> M
A10: =A9+1 -> 9 | B10: BELLUOMO | C10: GIOVANNI | D10: M | H10: S | M10: L | AJ10: S | AM10: S | AX10: S | BE10: S | BH10: {=SUM(LEN(E10:BG10)-LEN(SUBSTITUTE(E10:BG10,"S","")))} -> 5 | BI10: {=SUM(LEN(E10:BG10)-LEN(SUBSTITUTE(E10:BG10,"C","")))} -> 0 | BJ10: {=SUM(LEN(E10:BG10)-LEN(SUBSTITUTE(E10:BG10,"L","")))} -> 1 | BK10: =BJ10+BI10+BH10 -> 6 | BL10: =Foglio1!B10 -> BELLUOMO | BM10: =Foglio1!C10 -> GIOVANNI | BN10: =Foglio1!D10 -> M
A11: =A10+1 -> 10 | B11: BENCIVENGA | C11: RICCARDO | D11: M | O11: L | P11: S | R11: C | T11: S | AA11: S | AF11: C | AH11: C | AK11: C | AX11: S | BE11: S | BH11: {=SUM(LEN(E11:BG11)-LEN(SUBSTITUTE(E11:BG11,"S","")))} -> 5 | BI11: {=SUM(LEN(E11:BG11)-LEN(SUBSTITUTE(E11:BG11,"C","")))} -> 4 | BJ11: {=SUM(LEN(E11:BG11)-LEN(SUBSTITUTE(E11:BG11,"L","")))} -> 1 | BK11: =BJ11+BI11+BH11 -> 10 | BL11: =Foglio1!B11 -> BENCIVENGA | BM11: =Foglio1!C11 -> RICCARDO | BN11: =Foglio1!D11 -> M
A12: =A11+1 -> 11 | B12: BENNATO | C12: VINCENZO | D12: M | H12: S | O12: L | P12: S | T12: S | AD12: L | AJ12: S | AQ12: L | BE12: S | BH12: {=SUM(LEN(E12:BG12)-LEN(SUBSTITUTE(E12:BG12,"S","")))} -> 5 | BI12: {=SUM(LEN(E12:BG12)-LEN(SUBSTITUTE(E12:BG12,"C","")))} -> 0 | BJ12: {=SUM(LEN(E12:BG12)-LEN(SUBSTITUTE(E12:BG12,"L","")))} -> 3 | BK12: =BJ12+BI12+BH12 -> 8 | BL12: =Foglio1!B12 -> BENNATO | BM12: =Foglio1!C12 -> VINCENZO | BN12: =Foglio1!D12 -> M
A13: =A12+1 -> 12 | B13: BIANCOLELLA | C13: CARLO | D13: M | T13: S | AA13: S | AX13: S | BE13: S | BH13: {=SUM(LEN(E13:BG13)-LEN(SUBSTITUTE(E13:BG13,"S","")))} -> 4 | BI13: {=SUM(LEN(E13:BG13)-LEN(SUBSTITUTE(E13:BG13,"C","")))} -> 0 | BJ13: {=SUM(LEN(E13:BG13)-LEN(SUBSTITUTE(E13:BG13,"L","")))} -> 0 | BK13: =BJ13+BI13+BH13 -> 4 | BL13: =Foglio1!B13 -> BIANCOLELLA | BM13: =Foglio1!C13 -> CARLO | BN13: =Foglio1!D13 -> M
A14: =A13+1 -> 13 | B14: BUONANNO | C14: SALVATORE | D14: M | H14: S | O14: L | P14: S | T14: S | AA14: S | AJ14: S | AM14: S | AX14: S | BE14: S | BH14: {=SUM(LEN(E14:BG14)-LEN(SUBSTITUTE(E14:BG14,"S","")))} -> 8 | BI14: {=SUM(LEN(E14:BG14)-LEN(SUBSTITUTE(E14:BG14,"C","")))} -> 0 | BJ14: {=SUM(LEN(E14:BG14)-LEN(SUBSTITUTE(E14:BG14,"L","")))} -> 1 | BK14: =BJ14+BI14+BH14 -> 9 | BL14: =Foglio1!B14 -> BUONANNO | BM14: =Foglio1!C14 -> SALVATORE | BN14: =Foglio1!D14 -> M
A15: =A14+1 -> 14 | B15: CACCIOLA | C15: RENZO | D15: M | AJ15: S | AK15: C | AM15: S | AX15: S | BE15: S | BH15: {=SUM(LEN(E15:BG15)-LEN(SUBSTITUTE(E15:BG15,"S","")))} -> 4 | BI15: {=SUM(LEN(E15:BG15)-LEN(SUBSTITUTE(E15:BG15,"C","")))} -> 1 | BJ15: {=SUM(LEN(E15:BG15)-LEN(SUBSTITUTE(E15:BG15,"L","")))} -> 0 | BK15: =BJ15+BI15+BH15 -> 5 | BL15: =Foglio1!B15 -> CACCIOLA | BM15: =Foglio1!C15 -> RENZO | BN15: M
A16: =A15+1 -> 15 | B16: CARIFI | C16: MARIA ROSARIA | D16: F | P16: S | AX16: S | BH16: {=SUM(LEN(E16:BG16)-LEN(SUBSTITUTE(E16:BG16,"S","")))} -> 2 | BI16: {=SUM(LEN(E16:BG16)-LEN(SUBSTITUTE(E16:BG16,"C","")))} -> 0 | BJ16: {=SUM(LEN(E16:BG16)-LEN(SUBSTITUTE(E16:BG16,"L","")))} -> 0 | BK16: =BJ16+BI16+BH16 -> 2 | BL16: =Foglio1!B16 -> CARIFI | BM16: =Foglio1!C16 -> MARIA ROSARIA | BN16: =Foglio1!D16 -> F
A17: =A16+1 -> 16 | B17: CHIACCHIO | C17: DOMENICO | D17: M | G17: C | H17: S | L17: C | P17: S | Q17: L | R17: C | T17: S | AA17: S | AF17: C | AH17: C | AJ17: S | AK17: C | AM17: S | AN17: C | AU17: C | AX17: S | BC17: C | BE17: S | BH17: {=SUM(LEN(E17:BG17)-LEN(SUBSTITUTE(E17:BG17,"S","")))} -> 8 | BI17: {=SUM(LEN(E17:BG17)-LEN(SUBSTITUTE(E17:BG17,"C","")))} -> 9 | BJ17: {=SUM(LEN(E17:BG17)-LEN(SUBSTITUTE(E17:BG17,"L","")))} -> 1 | BK17: =BJ17+BI17+BH17 -> 18 | BL17: =Foglio1!B17 -> CHIACCHIO | BM17: =Foglio1!C17 -> DOMENICO | BN17: =Foglio1!D17 -> M
A18: =A17+1 -> 17 | B18: CITARELLA | C18: PAOLO | D18: M | P18: S | AX18: S | BH18: {=SUM(LEN(E18:BG18)-LEN(SUBSTITUTE(E18:BG18,"S","")))} -> 2 | BI18: {=SUM(LEN(E18:BG18)-LEN(SUBSTITUTE(E18:BG18,"C","")))} -> 0 | BJ18: {=SUM(LEN(E18:BG18)-LEN(SUBSTITUTE(E18:BG18,"L","")))} -> 0 | BK18: =BJ18+BI18+BH18 -> 2 | BL18: =Foglio1!B18 -> CITARELLA | BM18: =Foglio1!C18 -> PAOLO | BN18: =Foglio1!D18 -> M
A19: =A18+1 -> 18 | B19: COLELLA | C19: LUIGI | D19: M | H19: S | L19: C | P19: S | R19: C | T19: S | AA19: S | AF19: C | AH19: C | AX19: S | BE19: S | BH19: {=SUM(LEN(E19:BG19)-LEN(SUBSTITUTE(E19:BG19,"S","")))} -> 6 | BI19: {=SUM(LEN(E19:BG19)-LEN(SUBSTITUTE(E19:BG19,"C","")))} -> 4 | BJ19: {=SUM(LEN(E19:BG19)-LEN(SUBSTITUTE(E19:BG19,"L","")))} -> 0 | BK19: =BJ19+BI19+BH19 -> 10 | BL19: =Foglio1!B19 -> COLELLA | BM19: =Foglio1!C19 -> LUIGI | BN19: =Foglio1!D19 -> M
A20: =A19+1 -> 19 | B20: COMPARONE | C20: MARIA | D20: F | H20: S | P20: S | T20: S | AA20: S | AH20: C | AJ20: S | AM20: S | BE20: S | BH20: {=SUM(LEN(E20:BG20)-LEN(SUBSTITUTE(E20:BG20,"S","")))} -> 7 | BI20: {=SUM(LEN(E20:BG20)-LEN(SUBSTITUTE(E20:BG20,"C","")))} -> 1 | BJ20: {=SUM(LEN(E20:BG20)-LEN(SUBSTITUTE(E20:BG20,"L","")))} -> 0 | BK20: =BJ20+BI20+BH20 -> 8 | BL20: =Foglio1!B20 -> COMPARONE | BM20: =Foglio1!C20 -> MARIA | BN20: =Foglio1!D20 -> F
A21: =A20+1 -> 20 | B21: CORONELLA | C21: FILOMENA | D21: F | X21: L | AA21: S | AF21: C | AM21: S | BE21: S | BH21: {=SUM(LEN(E21:BG21)-LEN(SUBSTITUTE(E21:BG21,"S","")))} -> 3 | BI21: {=SUM(LEN(E21:BG21)-LEN(SUBSTITUTE(E21:BG21,"C","")))} -> 1 | BJ21: {=SUM(LEN(E21:BG21)-LEN(SUBSTITUTE(E21:BG21,"L","")))} -> 1 | BK21: =BJ21+BI21+BH21 -> 5 | BL21: =Foglio1!B21 -> CORONELLA | BM21: =Foglio1!C21 -> FILOMENA | BN21: =Foglio1!D21 -> F
A22: =A21+1 -> 21 | B22: D'AMBROSIO | C22: ANNA | D22: F | P22: S | T22: S | AA22: S | AH22: C | AJ22: S | AX22: S | BH22: {=SUM(LEN(E22:BG22)-LEN(SUBSTITUTE(E22:BG22,"S","")))} -> 5 | BI22: {=SUM(LEN(E22:BG22)-LEN(SUBSTITUTE(E22:BG22,"C","")))} -> 1 | BJ22: {=SUM(LEN(E22:BG22)-LEN(SUBSTITUTE(E22:BG22,"L","")))} -> 0 | BK22: =BJ22+BI22+BH22 -> 6 | BL22: =Foglio1!B22 -> D'AMBROSIO | BM22: =Foglio1!C22 -> ANNA | BN22: =Foglio1!D22 -> F
A23: =A22+1 -> 22 | B23: D'AMBROSIO | C23: CIRO | D23: M | M23: L | P23: S | T23: S | AB23: L | AH23: C | AM23: S | BH23: {=SUM(LEN(E23:BG23)-LEN(SUBSTITUTE(E23:BG23,"S","")))} -> 3 | BI23: {=SUM(LEN(E23:BG23)-LEN(SUBSTITUTE(E23:BG23,"C","")))} -> 1 | BJ23: {=SUM(LEN(E23:BG23)-LEN(SUBSTITUTE(E23:BG23,"L","")))} -> 2 | BK23: =BJ23+BI23+BH23 -> 6 | BL23: =Foglio1!B23 -> D'AMBROSIO | BM23: =Foglio1!C23 -> CIRO | BN23: =Foglio1!D23 -> M
A24: =A23+1 -> 23 | B24: D'ANIELLO | C24: ORESTE | D24: M | F24: L | G24: C | H24: S | I24: L | K24: L | L24: C | P24: S | R24: C | T24: S | V24: L | AA24: S | AB24: L | AF24: C | AH24: C | AJ24: S | AK24: C | AL24: L | AM24: S | AN24: C | AQ24: L | AT24: C | AW24: C | AX24: S | BB24: L | BC24: C | BE24: S | BH24: {=SUM(LEN(E24:BG24)-LEN(SUBSTITUTE(E24:BG24,"S","")))} -> 8 | BI24: {=SUM(LEN(E24:BG24)-LEN(SUBSTITUTE(E24:BG24,"C","")))} -> 10 | BJ24: {=SUM(LEN(E24:BG24)-LEN(SUBSTITUTE(E24:BG24,"L","")))} -> 8 | BK24: =BJ24+BI24+BH24 -> 26 | BL24: =Foglio1!B24 -> D'ANIELLO | BM24: =Foglio1!C24 -> ORESTE | BN24: =Foglio1!D24 -> M
A25: =A24+1 -> 24 | B25: DE MAIO | C25: ANIELLO | D25: M | H25: S | P25: S | T25: S | AA25: S | AJ25: S | AM25: S | AX25: S | BH25: {=SUM(LEN(E25:BG25)-LEN(SUBSTITUTE(E25:BG25,"S","")))} -> 7 | BI25: {=SUM(LEN(E25:BG25)-LEN(SUBSTITUTE(E25:BG25,"C","")))} -> 0 | BJ25: {=SUM(LEN(E25:BG25)-LEN(SUBSTITUTE(E25:BG25,"L","")))} -> 0 | BK25: =BJ25+BI25+BH25 -> 7 | BL25: =Foglio1!B25 -> DE MAIO | BM25: =Foglio1!C25 -> ANIELLO | BN25: =Foglio1!D25 -> M
A26: =A25+1 -> 25 | B26: DELLA VECCHIA | C26: GIUSEPPINA | D26: F | V26: L | Z26: L | AA26: S | AH26: C | AI26: L | AJ26: S | AK26: C | BH26: {=SUM(LEN(E26:BG26)-LEN(SUBSTITUTE(E26:BG26,"S","")))} -> 2 | BI26: {=SUM(LEN(E26:BG26)-LEN(SUBSTITUTE(E26:BG26,"C","")))} -> 2 | BJ26: {=SUM(LEN(E26:BG26)-LEN(SUBSTITUTE(E26:BG26,"L","")))} -> 3 | BK26: =BJ26+BI26+BH26 -> 7 | BL26: =Foglio1!B26 -> DELLA VECCHIA | BM26: =Foglio1!C26 -> GIUSEPPINA | BN26: =Foglio1!D26 -> F
A27: =A26+1 -> 26 | B27: DELLA VOLPE | C27: FABIO | D27: M | H27: S | P27: S | T27: S | Y27: L | AA27: S | AH27: C | AJ27: S | AO27: L | AX27: S | BH27: {=SUM(LEN(E27:BG27)-LEN(SUBSTITUTE(E27:BG27,"S","")))} -> 6 | BI27: {=SUM(LEN(E27:BG27)-LEN(SUBSTITUTE(E27:BG27,"C","")))} -> 1 | BJ27: {=SUM(LEN(E27:BG27)-LEN(SUBSTITUTE(E27:BG27,"L","")))} -> 2 | BK27: =BJ27+BI27+BH27 -> 9 | BL27: =Foglio1!B27 -> DELLA VOLPE | BM27: =Foglio1!C27 -> FABIO | BN27: =Foglio1!D27 -> M
A28: =A27+1 -> 27 | B28: DE ROSA | C28: MARIA ITALIA | D28: F | H28: S | K28: L | T28: S | AA28: S | AH28: C | AJ28: S | AM28: S | AX28: S | BH28: {=SUM(LEN(E28:BG28)-LEN(SUBSTITUTE(E28:BG28,"S","")))} -> 6 | BI28: {=SUM(LEN(E28:BG28)-LEN(SUBSTITUTE(E28:BG28,"C","")))} -> 1 | BJ28: {=SUM(LEN(E28:BG28)-LEN(SUBSTITUTE(E28:BG28,"L","")))} -> 1 | BK28: =BJ28+BI28+BH28 -> 8 | BL28: =Foglio1!B28 -> DE ROSA | BM28: =Foglio1!C28 -> MARIA ITALIA | BN28: =Foglio1!D28 -> F
A29: =A28+1 -> 28 | B29: DI GRAZIA | C29: LUIGI | D29: M | H29: S | M29: L | O29: L | P29: S | T29: S | U29: L | X29: L | AA29: S | AF29: C | AJ29: S | AM29: S | AX29: S | AZ29: L | BA29: L | BE29: S | BH29: {=SUM(LEN(E29:BG29)-LEN(SUBSTITUTE(E29:BG29,"S","")))} -> 8 | BI29: {=SUM(LEN(E29:BG29)-LEN(SUBSTITUTE(E29:BG29,"C","")))} -> 1 | BJ29: {=SUM(LEN(E29:BG29)-LEN(SUBSTITUTE(E29:BG29,"L","")))} -> 6 | BK29: =BJ29+BI29+BH29 -> 15 | BL29: =Foglio1!B29 -> DI GRAZIA | BM29: =Foglio1!C29 -> LUIGI | BN29: =Foglio1!D29 -> M
A30: =A29+1 -> 29 | B30: DI MARZO | C30: BELGIRO | D30: M | F30: L | H30: S | P30: S | AA30: S | AD30: L | AJ30: S | AM30: S | AX30: S | BH30: {=SUM(LEN(E30:BG30)-LEN(SUBSTITUTE(E30:BG30,"S","")))} -> 6 | BI30: {=SUM(LEN(E30:BG30)-LEN(SUBSTITUTE(E30:BG30,"C","")))} -> 0 | BJ30: {=SUM(LEN(E30:BG30)-LEN(SUBSTITUTE(E30:BG30,"L","")))} -> 2 | BK30: =BJ30+BI30+BH30 -> 8 | BL30: =Foglio1!B30 -> DI MARZO | BM30: =Foglio1!C30 -> BELGIRO | BN30: =Foglio1!D30 -> M
A31: =A30+1 -> 30 | B31: DI RONZA | C31: ANTONIO | D31: M | R31: C | AA31: S | AF31: C | AJ31: S | BH31: {=SUM(LEN(E31:BG31)-LEN(SUBSTITUTE(E31:BG31,"S","")))} -> 2 | BI31: {=SUM(LEN(E31:BG31)-LEN(SUBSTITUTE(E31:BG31,"C","")))} -> 2 | BJ31: {=SUM(LEN(E31:BG31)-LEN(SUBSTITUTE(E31:BG31,"L","")))} -> 0 | BK31: =BJ31+BI31+BH31 -> 4 | BL31: =Foglio1!B31 -> DI RONZA | BM31: =Foglio1!C31 -> ANTONIO | BN31: =Foglio1!D31 -> M
A32: =A31+1 -> 31 | B32: DI SANTO | C32: RAFFAELLA | D32: F | H32: S | T32: S | AA32: S | AC32: L | AH32: C | AJ32: S | BE32: S | BH32: {=SUM(LEN(E32:BG32)-LEN(SUBSTITUTE(E32:BG32,"S","")))} -> 5 | BI32: {=SUM(LEN(E32:BG32)-LEN(SUBSTITUTE(E32:BG32,"C","")))} -> 1 | BJ32: {=SUM(LEN(E32:BG32)-LEN(SUBSTITUTE(E32:BG32,"L","")))} -> 1 | BK32: =BJ32+BI32+BH32 -> 7 | BL32: =Foglio1!B32 -> DI SANTO | BM32: =Foglio1!C32 -> RAFFAELLA | BN32: =Foglio1!D32 -> F
A33: =A32+1 -> 32 | B33: di TOMMASO | C33: PASQUALE | D33: M | J33: L | P33: S | R33: C | AA33: S | AF33: C | AJ33: S | AM33: S | AX33: S | BC33: C | BE33: S | BH33: {=SUM(LEN(E33:BG33)-LEN(SUBSTITUTE(E33:BG33,"S","")))} -> 6 | BI33: {=SUM(LEN(E33:BG33)-LEN(SUBSTITUTE(E33:BG33,"C","")))} -> 3 | BJ33: {=SUM(LEN(E33:BG33)-LEN(SUBSTITUTE(E33:BG33,"L","")))} -> 1 | BK33: =BJ33+BI33+BH33 -> 10 | BL33: =Foglio1!B33 -> di TOMMASO | BM33: =Foglio1!C33 -> PASQUALE | BN33: =Foglio1!D33 -> M
A34: =A33+1 -> 33 | B34: ESCOLINO | C34: GERARDO | D34: M | G34: C | H34: S | K34: L | N34: L | P34: S | R34: C | T34: S | U34: L | AA34: S | AF34: C | AH34: C | AJ34: S | AM34: S | AX34: S | AY34: L | BE34: S | BH34: {=SUM(LEN(E34:BG34)-LEN(SUBSTITUTE(E34:BG34,"S","")))} -> 8 | BI34: {=SUM(LEN(E34:BG34)-LEN(SUBSTITUTE(E34:BG34,"C","")))} -> 4 | BJ34: {=SUM(LEN(E34:BG34)-LEN(SUBSTITUTE(E34:BG34,"L","")))} -> 4 | BK34: =BJ34+BI34+BH34 -> 16 | BL34: =Foglio1!B34 -> ESCOLINO | BM34: =Foglio1!C34 -> GERARDO | BN34: =Foglio1!D34 -> M
A35: =A34+1 -> 34 | B35: ESPOSITO | C35: ALFONSO | D35: M | P35: S | T35: S | AX35: S | BE35: S | BH35: {=SUM(LEN(E35:BG35)-LEN(SUBSTITUTE(E35:BG35,"S","")))} -> 4 | BI35: {=SUM(LEN(E35:BG35)-LEN(SUBSTITUTE(E35:BG35,"C","")))} -> 0 | BJ35: {=SUM(LEN(E35:BG35)-LEN(SUBSTITUTE(E35:BG35,"L","")))} -> 0 | BK35: =BJ35+BI35+BH35 -> 4 | BL35: =Foglio1!B35 -> ESPOSITO | BM35: =Foglio1!C35 -> ALFONSO | BN35: =Foglio1!D35 -> M
A36: =A35+1 -> 35 | B36: ESPOSITO | C36: ROSA | D36: F | P36: S | T36: S | AM36: S | BH36: {=SUM(LEN(E36:BG36)-LEN(SUBSTITUTE(E36:BG36,"S","")))} -> 3 | BI36: {=SUM(LEN(E36:BG36)-LEN(SUBSTITUTE(E36:BG36,"C","")))} -> 0 | BJ36: {=SUM(LEN(E36:BG36)-LEN(SUBSTITUTE(E36:BG36,"L","")))} -> 0 | BK36: =BJ36+BI36+BH36 -> 3 | BL36: =Foglio1!B36 -> ESPOSITO | BM36: =Foglio1!C36 -> ROSA | BN36: =Foglio1!D36 -> F
A37: =A36+1 -> 36 | B37: FABOZZI | C37: RAFFAELE | D37: M | AF37: C | AJ37: S | AK37: C | AM37: S | BH37: {=SUM(LEN(E37:BG37)-LEN(SUBSTITUTE(E37:BG37,"S","")))} -> 2 | BI37: {=SUM(LEN(E37:BG37)-LEN(SUBSTITUTE(E37:BG37,"C","")))} -> 2 | BJ37: {=SUM(LEN(E37:BG37)-LEN(SUBSTITUTE(E37:BG37,"L","")))} -> 0 | BK37: =BJ37+BI37+BH37 -> 4 | BL37: =Foglio1!B37 -> FABOZZI | BM37: =Foglio1!C37 -> RAFFAELE | BN37: =Foglio1!D37 -> M
A38: =A37+1 -> 37 | B38: FERRARA | C38: GIOVANNI | D38: M | E38: L | G38: C | H38: S | I38: L | K38: L | L38: C | P38: S | Q38: L | R38: C | T38: S | V38: L | AA38: S | AB38: L | AF38: C | AH38: C | AJ38: S | AK38: C | AL38: L | AM38: S | AN38: C | AQ38: L | AT38: C | AW38: C | AX38: S | AY38: L | BC38: C | BE38: S | BH38: {=SUM(LEN(E38:BG38)-LEN(SUBSTITUTE(E38:BG38,"S","")))} -> 8 | BI38: {=SUM(LEN(E38:BG38)-LEN(SUBSTITUTE(E38:BG38,"C","")))} -> 10 | BJ38: {=SUM(LEN(E38:BG38)-LEN(SUBSTITUTE(E38:BG38,"L","")))} -> 9 | BK38: =BJ38+BI38+BH38 -> 27 | BL38: =Foglio1!B38 -> FERRARA | BM38: =Foglio1!C38 -> GIOVANNI | BN38: =Foglio1!D38 -> M
A39: =A38+1 -> 38 | B39: GARGIULO | C39: GIOVANNA | D39: F | H39: S | K39: L | M39: L | P39: S | T39: S | AA39: S | AH39: C | AM39: S | AX39: S | BH39: {=SUM(LEN(E39:BG39)-LEN(SUBSTITUTE(E39:BG39,"S","")))} -> 6 | BI39: {=SUM(LEN(E39:BG39)-LEN(SUBSTITUTE(E39:BG39,"C","")))} -> 1 | BJ39: {=SUM(LEN(E39:BG39)-LEN(SUBSTITUTE(E39:BG39,"L","")))} -> 2 | BK39: =BJ39+BI39+BH39 -> 9 | BL39: =Foglio1!B39 -> GARGIULO | BM39: =Foglio1!C39 -> GIOVANNA | BN39: =Foglio1!D39 -> F
A40: =A39+1 -> 39 | B40: GAROFANO | C40: SILVIO | D40: M | H40: S | O40: L | Q40: L | U40: L | AA40: S | AJ40: S | AX40: S | BE40: S | BH40: {=SUM(LEN(E40:BG40)-LEN(SUBSTITUTE(E40:BG40,"S","")))} -> 5 | BI40: {=SUM(LEN(E40:BG40)-LEN(SUBSTITUTE(E40:BG40,"C","")))} -> 0 | BJ40: {=SUM(LEN(E40:BG40)-LEN(SUBSTITUTE(E40:BG40,"L","")))} -> 3 | BK40: =BJ40+BI40+BH40 -> 8 | BL40: =Foglio1!B40 -> GAROFANO | BM40: =Foglio1!C40 -> SILVIO | BN40: =Foglio1!D40 -> M
A41: =A40+1 -> 40 | B41: GRASSO | C41: GIUSEPPE | D41: M | H41: S | T41: S | AA41: S | AM41: S | BH41: {=SUM(LEN(E41:BG41)-LEN(SUBSTITUTE(E41:BG41,"S","")))} -> 4 | BI41: {=SUM(LEN(E41:BG41)-LEN(SUBSTITUTE(E41:BG41,"C","")))} -> 0 | BJ41: {=SUM(LEN(E41:BG41)-LEN(SUBSTITUTE(E41:BG41,"L","")))} -> 0 | BK41: =BJ41+BI41+BH41 -> 4 | BL41: =Foglio1!B41 -> GRASSO | BM41: =Foglio1!C41 -> GIUSEPPE | BN41: =Foglio1!D41 -> M
A42: =A41+1 -> 41 | B42: GRAVINO | C42: FELICE | D42: M | O42: L | P42: S | T42: S | AA42: S | AJ42: S | BE42: S | BH42: {=SUM(LEN(E42:BG42)-LEN(SUBSTITUTE(E42:BG42,"S","")))} -> 5 | BI42: {=SUM(LEN(E42:BG42)-LEN(SUBSTITUTE(E42:BG42,"C","")))} -> 0 | BJ42: {=SUM(LEN(E42:BG42)-LEN(SUBSTITUTE(E42:BG42,"L","")))} -> 1 | BK42: =BJ42+BI42+BH42 -> 6 | BL42: =Foglio1!B42 -> GRAVINO | BM42: =Foglio1!C42 -> FELICE | BN42: =Foglio1!D42 -> M
A43: =A42+1 -> 42 | B43: IAVARONE | C43: LUCIANO | D43: M | P43: S | R43: C | T43: S | AA43: S | AF43: C | AJ43: S | AK43: C | AM43: S | AX43: S | BE43: S | BH43: {=SUM(LEN(E43:BG43)-LEN(SUBSTITUTE(E43:BG43,"S","")))} -> 7 | BI43: {=SUM(LEN(E43:BG43)-LEN(SUBSTITUTE(E43:BG43,"C","")))} -> 3 | BJ43: {=SUM(LEN(E43:BG43)-LEN(SUBSTITUTE(E43:BG43,"L","")))} -> 0 | BK43: =BJ43+BI43+BH43 -> 10 | BL43: =Foglio1!B43 -> IAVARONE | BM43: =Foglio1!C43 -> LUCIANO | BN43: =Foglio1!D43 -> M
A44: =A43+1 -> 43 | B44: IMPARATO | C44: CIRO | D44: M | P44: S | T44: S | AH44: C | BE44: S | BH44: {=SUM(LEN(E44:BG44)-LEN(SUBSTITUTE(E44:BG44,"S","")))} -> 3 | BI44: {=SUM(LEN(E44:BG44)-LEN(SUBSTITUTE(E44:BG44,"C","")))} -> 1 | BJ44: {=SUM(LEN(E44:BG44)-LEN(SUBSTITUTE(E44:BG44,"L","")))} -> 0 | BK44: =BJ44+BI44+BH44 -> 4 | BL44: =Foglio1!B44 -> IMPARATO | BM44: =Foglio1!C44 -> CIRO | BN44: =Foglio1!D44 -> M
A45: =A44+1 -> 44 | B45: LAARFAOUI | C45: ABDELGHANI | D45: M | H45: S | P45: S | T45: S | AA45: S | AM45: S | AX45: S | BE45: S | BH45: {=SUM(LEN(E45:BG45)-LEN(SUBSTITUTE(E45:BG45,"S","")))} -> 7 | BI45: {=SUM(LEN(E45:BG45)-LEN(SUBSTITUTE(E45:BG45,"C","")))} -> 0 | BJ45: {=SUM(LEN(E45:BG45)-LEN(SUBSTITUTE(E45:BG45,"L","")))} -> 0 | BK45: =BJ45+BI45+BH45 -> 7 | BL45: =Foglio1!B45 -> LAARFAOUI | BM45: =Foglio1!C45 -> ABDELGHANI | BN45: =Foglio1!D45 -> M
A46: =A45+1 -> 45 | B46: LABYAD | C46: MOUFID | D46: M | AA46: S | AH46: C | AJ46: S | AK46: C | AM46: S | BH46: {=SUM(LEN(E46:BG46)-LEN(SUBSTITUTE(E46:BG46,"S","")))} -> 3 | BI46: {=SUM(LEN(E46:BG46)-LEN(SUBSTITUTE(E46:BG46,"C","")))} -> 2 | BJ46: {=SUM(LEN(E46:BG46)-LEN(SUBSTITUTE(E46:BG46,"L","")))} -> 0 | BK46: =BJ46+BI46+BH46 -> 5 | BL46: =Foglio1!B46 -> LABYAD | BM46: =Foglio1!C46 -> MOUFID | BN46: =Foglio1!D46 -> M
A47: =A46+1 -> 46 | B47: LAMA | C47: CIRO | D47: M | AX47: S | BH47: {=SUM(LEN(E47:BG47)-LEN(SUBSTITUTE(E47:BG47,"S","")))} -> 1 | BI47: {=SUM(LEN(E47:BG47)-LEN(SUBSTITUTE(E47:BG47,"C","")))} -> 0 | BJ47: {=SUM(LEN(E47:BG47)-LEN(SUBSTITUTE(E47:BG47,"L","")))} -> 0 | BK47: =BJ47+BI47+BH47 -> 1 | BL47: =Foglio1!B47 -> LAMA | BM47: =Foglio1!C47 -> CIRO | BN47: =Foglio1!D47 -> M
A48: =A47+1 -> 47 | B48: LAMACHI | C48: ABDELKEBIR | D48: M | H48: S | P48: S | Q48: L | T48: S | AA48: S | AH48: C | AJ48: S | AK48: C | AM48: S | AN48: C | AX48: S | BE48: S | BH48: {=SUM(LEN(E48:BG48)-LEN(SUBSTITUTE(E48:BG48,"S","")))} -> 8 | BI48: {=SUM(LEN(E48:BG48)-LEN(SUBSTITUTE(E48:BG48,"C","")))} -> 3 | BJ48: {=SUM(LEN(E48:BG48)-LEN(SUBSTITUTE(E48:BG48,"L","")))} -> 1 | BK48: =BJ48+BI48+BH48 -> 12 | BL48: =Foglio1!B48 -> LAMACHI | BM48: =Foglio1!C48 -> ABDELKEBIR | BN48: =Foglio1!D48 -> M
A49: =A48+1 -> 48 | B49: LICCARDO | C49: GIOVANNA | D49: F | P49: S | V49: L | AA49: S | AH49: C | AX49: S | BH49: {=SUM(LEN(E49:BG49)-LEN(SUBSTITUTE(E49:BG49,"S","")))} -> 3 | BI49: {=SUM(LEN(E49:BG49)-LEN(SUBSTITUTE(E49:BG49,"C","")))} -> 1 | BJ49: {=SUM(LEN(E49:BG49)-LEN(SUBSTITUTE(E49:BG49,"L","")))} -> 1 | BK49: =BJ49+BI49+BH49 -> 5 | BL49: =Foglio1!B49 -> LICCARDO | BM49: =Foglio1!C49 -> GIOVANNA | BN49: =Foglio1!D49 -> F
A50: =A49+1 -> 49 | B50: LOMBARDI | C50: ENZO | D50: M | P50: S | R50: C | T50: S | AA50: S | AF50: C | AJ50: S | AM50: S | AX50: S | BH50: {=SUM(LEN(E50:BG50)-LEN(SUBSTITUTE(E50:BG50,"S","")))} -> 6 | BI50: {=SUM(LEN(E50:BG50)-LEN(SUBSTITUTE(E50:BG50,"C","")))} -> 2 | BJ50: {=SUM(LEN(E50:BG50)-LEN(SUBSTITUTE(E50:BG50,"L","")))} -> 0 | BK50: =BJ50+BI50+BH50 -> 8 | BL50: =Foglio1!B50 -> LOMBARDI | BM50: =Foglio1!C50 -> ENZO | BN50: =Foglio1!D50 -> M
A51: =A50+1 -> 50 | B51: LUISE | C51: ANTONIETTA | D51: F | P51: S | R51: C | T51: S | AA51: S | AF51: C | AM51: S | BH51: {=SUM(LEN(E51:BG51)-LEN(SUBSTITUTE(E51:BG51,"S","")))} -> 4 | BI51: {=SUM(LEN(E51:BG51)-LEN(SUBSTITUTE(E51:BG51,"C","")))} -> 2 | BJ51: {=SUM(LEN(E51:BG51)-LEN(SUBSTITUTE(E51:BG51,"L","")))} -> 0 | BK51: =BJ51+BI51+BH51 -> 6 | BL51: =Foglio1!B51 -> LUISE | BM51: =Foglio1!C51 -> ANTONIETTA | BN51: =Foglio1!D51 -> F
A52: =A51+1 -> 51 | B52: LUONGO | C52: ANTONIO | D52: M | T52: S | AA52: S | AM52: S | BH52: {=SUM(LEN(E52:BG52)-LEN(SUBSTITUTE(E52:BG52,"S","")))} -> 3 | BI52: {=SUM(LEN(E52:BG52)-LEN(SUBSTITUTE(E52:BG52,"C","")))} -> 0 | BJ52: {=SUM(LEN(E52:BG52)-LEN(SUBSTITUTE(E52:BG52,"L","")))} -> 0 | BK52: =BJ52+BI52+BH52 -> 3 | BL52: =Foglio1!B52 -> LUONGO | BM52: =Foglio1!C52 -> ANTONIO | BN52: =Foglio1!D52 -> M
A53: =A52+1 -> 52 | B53: MAIORCA | C53: FRANCESCO | D53: M | E53: L | G53: C | L53: C | P53: S | R53: C | T53: S | U53: L | AA53: S | AF53: C | AJ53: S | AK53: C | AM53: S | AP53: L | AX53: S | BH53: {=SUM(LEN(E53:BG53)-LEN(SUBSTITUTE(E53:BG53,"S","")))} -> 6 | BI53: {=SUM(LEN(E53:BG53)-LEN(SUBSTITUTE(E53:BG53,"C","")))} -> 5 | BJ53: {=SUM(LEN(E53:BG53)-LEN(SUBSTITUTE(E53:BG53,"L","")))} -> 3 | BK53: =BJ53+BI53+BH53 -> 14 | BL53: =Foglio1!B53 -> MAIORCA | BM53: =Foglio1!C53 -> FRANCESCO | BN53: =Foglio1!D53 -> M
A54: =A53+1 -> 53 | B54: MAISTO | C54: SALVATORE | D54: M | H54: S | P54: S | T54: S | AA54: S | AF54: C | AJ54: S | AK54: C | AM54: S | BH54: {=SUM(LEN(E54:BG54)-LEN(SUBSTITUTE(E54:BG54,"S","")))} -> 6 | BI54: {=SUM(LEN(E54:BG54)-LEN(SUBSTITUTE(E54:BG54,"C","")))} -> 2 | BJ54: {=SUM(LEN(E54:BG54)-LEN(SUBSTITUTE(E54:BG54,"L","")))} -> 0 | BK54: =BJ54+BI54+BH54 -> 8 | BL54: =Foglio1!B54 -> MAISTO | BM54: =Foglio1!C54 -> SALVATORE | BN54: =Foglio1!D54 -> M
A55: =A54+1 -> 54 | B55: MANGIACAPRA | C55: LUIGI | D55: M | AA55: S | BE55: S | BH55: {=SUM(LEN(E55:BG55)-LEN(SUBSTITUTE(E55:BG55,"S","")))} -> 2 | BI55: {=SUM(LEN(E55:BG55)-LEN(SUBSTITUTE(E55:BG55,"C","")))} -> 0 | BJ55: {=SUM(LEN(E55:BG55)-LEN(SUBSTITUTE(E55:BG55,"L","")))} -> 0 | BK55: =BJ55+BI55+BH55 -> 2 | BL55: =Foglio1!B55 -> MANGIACAPRA | BM55: =Foglio1!C55 -> LUIGI | BN55: =Foglio1!D55 -> M
A56: =A55+1 -> 55 | B56: MARCHESE | C56: FRANCESCO | D56: M | H56: S | O56: L | P56: S | AA56: S | AJ56: S | AM56: S | AX56: S | BE56: S | BH56: {=SUM(LEN(E56:BG56)-LEN(SUBSTITUTE(E56:BG56,"S","")))} -> 7 | BI56: {=SUM(LEN(E56:BG56)-LEN(SUBSTITUTE(E56:BG56,"C","")))} -> 0 | BJ56: {=SUM(LEN(E56:BG56)-LEN(SUBSTITUTE(E56:BG56,"L","")))} -> 1 | BK56: =BJ56+BI56+BH56 -> 8 | BL56: =Foglio1!B56 -> MARCHESE | BM56: =Foglio1!C56 -> FRANCESCO | BN56: =Foglio1!D56 -> M
A57: =A56+1 -> 56 | B57: MAROTTA | C57: ANNALISA | D57: F | AA57: S | AH57: C | AM57: S | AX57: S | BH57: {=SUM(LEN(E57:BG57)-LEN(SUBSTITUTE(E57:BG57,"S","")))} -> 3 | BI57: {=SUM(LEN(E57:BG57)-LEN(SUBSTITUTE(E57:BG57,"C","")))} -> 1 | BJ57: {=SUM(LEN(E57:BG57)-LEN(SUBSTITUTE(E57:BG57,"L","")))} -> 0 | BK57: =BJ57+BI57+BH57 -> 4 | BL57: =Foglio1!B57 -> MAROTTA | BM57: =Foglio1!C57 -> ANNALISA | BN57: =Foglio1!D57 -> F
A58: =A57+1 -> 57 | B58: MARRONE | C58: DAVIDE | D58: M | H58: S | O58: L | T58: S | AA58: S | AX58: S | AY58: L | BE58: S | BH58: {=SUM(LEN(E58:BG58)-LEN(SUBSTITUTE(E58:BG58,"S","")))} -> 5 | BI58: {=SUM(LEN(E58:BG58)-LEN(SUBSTITUTE(E58:BG58,"C","")))} -> 0 | BJ58: {=SUM(LEN(E58:BG58)-LEN(SUBSTITUTE(E58:BG58,"L","")))} -> 2 | BK58: =BJ58+BI58+BH58 -> 7 | BL58: =Foglio1!B58 -> MARRONE | BM58: =Foglio1!C58 -> DAVIDE | BN58: =Foglio1!D58 -> M
A59: =A58+1 -> 58 | B59: MATTIELLO | C59: FRANCESCO | D59: M | H59: S | P59: S | R59: C | T59: S | AA59: S | AJ59: S | AM59: S | AX59: S | BE59: S | BH59: {=SUM(LEN(E59:BG59)-LEN(SUBSTITUTE(E59:BG59,"S","")))} -> 8 | BI59: {=SUM(LEN(E59:BG59)-LEN(SUBSTITUTE(E59:BG59,"C","")))} -> 1 | BJ59: {=SUM(LEN(E59:BG59)-LEN(SUBSTITUTE(E59:BG59,"L","")))} -> 0 | BK59: =BJ59+BI59+BH59 -> 9 | BL59: =Foglio1!B59 -> MATTIELLO | BM59: =Foglio1!C59 -> FRANCESCO | BN59: =Foglio1!D59 -> M
A60: =A59+1 -> 59 | B60: MESSINA | C60: FRANCESCO | D60: M | H60: S | K60: L | O60: L | P60: S | R60: C | T60: S | U60: L | AA60: S | AF60: C | AJ60: S | AM60: S | AU60: C | BE60: S | BH60: {=SUM(LEN(E60:BG60)-LEN(SUBSTITUTE(E60:BG60,"S","")))} -> 7 | BI60: {=SUM(LEN(E60:BG60)-LEN(SUBSTITUTE(E60:BG60,"C","")))} -> 3 | BJ60: {=SUM(LEN(E60:BG60)-LEN(SUBSTITUTE(E60:BG60,"L","")))} -> 3 | BK60: =BJ60+BI60+BH60 -> 13 | BL60: =Foglio1!B60 -> MESSINA | BM60: =Foglio1!C60 -> FRANCESCO | BN60: =Foglio1!D60 -> M
A61: =A60+1 -> 60 | B61: MESSINA | C61: NICOLA | D61: M | H61: S | K61: L | N61: L | P61: S | R61: C | T61: S | U61: L | AA61: S | AF61: C | AH61: C | AJ61: S | AY61: L | BE61: S | BH61: {=SUM(LEN(E61:BG61)-LEN(SUBSTITUTE(E61:BG61,"S","")))} -> 6 | BI61: {=SUM(LEN(E61:BG61)-LEN(SUBSTITUTE(E61:BG61,"C","")))} -> 3 | BJ61: {=SUM(LEN(E61:BG61)-LEN(SUBSTITUTE(E61:BG61,"L","")))} -> 4 | BK61: =BJ61+BI61+BH61 -> 13 | BL61: =Foglio1!B61 -> MESSINA | BM61: =Foglio1!C61 -> NICOLA | BN61: =Foglio1!D61 -> M
A62: =A61+1 -> 61 | B62: MICILLO | C62: NICOLA | D62: M | AA62: S | AJ62: S | AM62: S | AX62: S | BE62: S | BH62: {=SUM(LEN(E62:BG62)-LEN(SUBSTITUTE(E62:BG62,"S","")))} -> 5 | BI62: {=SUM(LEN(E62:BG62)-LEN(SUBSTITUTE(E62:BG62,"C","")))} -> 0 | BJ62: {=SUM(LEN(E62:BG62)-LEN(SUBSTITUTE(E62:BG62,"L","")))} -> 0 | BK62: =BJ62+BI62+BH62 -> 5 | BL62: =Foglio1!B62 -> MICILLO | BM62: =Foglio1!C62 -> NICOLA | BN62: =Foglio1!D62 -> M
A63: =A62+1 -> 62 | B63: MUNGIGUERRA | C63: GIOVANNI | D63: M | H63: S | K63: L | P63: S | T63: S | AA63: S | AH63: C | AJ63: S | AM63: S | AX63: S | AY63: L | BE63: S | BH63: {=SUM(LEN(E63:BG63)-LEN(SUBSTITUTE(E63:BG63,"S","")))} -> 8 | BI63: {=SUM(LEN(E63:BG63)-LEN(SUBSTITUTE(E63:BG63,"C","")))} -> 1 | BJ63: {=SUM(LEN(E63:BG63)-LEN(SUBSTITUTE(E63:BG63,"L","")))} -> 2 | BK63: =BJ63+BI63+BH63 -> 11 | BL63: =Foglio1!B63 -> MUNGIGUERRA | BM63: =Foglio1!C63 -> GIOVANNI | BN63: =Foglio1!D63 -> M
A64: =A63+1 -> 63 | B64: NAPPA | C64: ALESSANDRO | D64: M | G64: C | H64: S | P64: S | T64: S | AA64: S | AC64: L | AH64: C | AJ64: S | AM64: S | BE64: S | BH64: {=SUM(LEN(E64:BG64)-LEN(SUBSTITUTE(E64:BG64,"S","")))} -> 7 | BI64: {=SUM(LEN(E64:BG64)-LEN(SUBSTITUTE(E64:BG64,"C","")))} -> 2 | BJ64: {=SUM(LEN(E64:BG64)-LEN(SUBSTITUTE(E64:BG64,"L","")))} -> 1 | BK64: =BJ64+BI64+BH64 -> 10 | BL64: =Foglio1!B64 -> NAPPA | BM64: =Foglio1!C64 -> ALESSANDRO | BN64: =Foglio1!D64 -> M
A65: =A64+1 -> 64 | B65: OLIVA | C65: ADOLFO | D65: M | H65: S | O65: L | P65: S | T65: S | AA65: S | AJ65: S | AM65: S | BH65: {=SUM(LEN(E65:BG65)-LEN(SUBSTITUTE(E65:BG65,"S","")))} -> 6 | BI65: {=SUM(LEN(E65:BG65)-LEN(SUBSTITUTE(E65:BG65,"C","")))} -> 0 | BJ65: {=SUM(LEN(E65:BG65)-LEN(SUBSTITUTE(E65:BG65,"L","")))} -> 1 | BK65: =BJ65+BI65+BH65 -> 7 | BL65: =Foglio1!B65 -> OLIVA | BM65: =Foglio1!C65 -> ADOLFO | BN65: =Foglio1!D65 -> M
A66: =A65+1 -> 65 | B66: OLIVA | C66: ANTIMO | D66: M | G66: C | H66: S | L66: C | P66: S | Q66: L | R66: C | T66: S | AA66: S | AB66: L | AH66: C | AJ66: S | AK66: C | AM66: S | AN66: C | AT66: C | AX66: S | BE66: S | BH66: {=SUM(LEN(E66:BG66)-LEN(SUBSTITUTE(E66:BG66,"S","")))} -> 8 | BI66: {=SUM(LEN(E66:BG66)-LEN(SUBSTITUTE(E66:BG66,"C","")))} -> 7 | BJ66: {=SUM(LEN(E66:BG66)-LEN(SUBSTITUTE(E66:BG66,"L","")))} -> 2 | BK66: =BJ66+BI66+BH66 -> 17 | BL66: =Foglio1!B66 -> OLIVA | BM66: =Foglio1!C66 -> ANTIMO | BN66: =Foglio1!D66 -> M
A67: =A66+1 -> 66 | B67: ORABONA | C67: LUCIO | D67: M | H67: S | O67: L | T67: S | AA67: S | AM67: S | AX67: S | BH67: {=SUM(LEN(E67:BG67)-LEN(SUBSTITUTE(E67:BG67,"S","")))} -> 5 | BI67: {=SUM(LEN(E67:BG67)-LEN(SUBSTITUTE(E67:BG67,"C","")))} -> 0 | BJ67: {=SUM(LEN(E67:BG67)-LEN(SUBSTITUTE(E67:BG67,"L","")))} -> 1 | BK67: =BJ67+BI67+BH67 -> 6 | BL67: =Foglio1!B67 -> ORABONA | BM67: =Foglio1!C67 -> LUCIO | BN67: =Foglio1!D67 -> M
A68: =A67+1 -> 67 | B68: PALLONETTO | C68: VINCENZO | D68: M | H68: S | O68: L | R68: C | AH68: C | AM68: S | AX68: S | BE68: S | BH68: {=SUM(LEN(E68:BG68)-LEN(SUBSTITUTE(E68:BG68,"S","")))} -> 4 | BI68: {=SUM(LEN(E68:BG68)-LEN(SUBSTITUTE(E68:BG68,"C","")))} -> 2 | BJ68: {=SUM(LEN(E68:BG68)-LEN(SUBSTITUTE(E68:BG68,"L","")))} -> 1 | BK68: =BJ68+BI68+BH68 -> 7 | BL68: =Foglio1!B68 -> PALLONETTO | BM68: =Foglio1!C68 -> VINCENZO | BN68: =Foglio1!D68 -> M
A69: =A68+1 -> 68 | B69: PALMIERI | C69: FRANCESCO | D69: M | H69: S | O69: L | P69: S | R69: C | T69: S | AA69: S | AF69: C | AJ69: S | AX69: S | BE69: S | BH69: {=SUM(LEN(E69:BG69)-LEN(SUBSTITUTE(E69:BG69,"S","")))} -> 7 | BI69: {=SUM(LEN(E69:BG69)-LEN(SUBSTITUTE(E69:BG69,"C","")))} -> 2 | BJ69: {=SUM(LEN(E69:BG69)-LEN(SUBSTITUTE(E69:BG69,"L","")))} -> 1 | BK69: =BJ69+BI69+BH69 -> 10 | BL69: =Foglio1!B69 -> PALMIERI | BM69: =Foglio1!C69 -> FRANCESCO | BN69: =Foglio1!D69 -> M
A70: =A69+1 -> 69 | B70: PALUMBO | C70: ERNESTO | D70: M | AA70: S | AF70: C | AK70: C | AM70: S | BH70: {=SUM(LEN(E70:BG70)-LEN(SUBSTITUTE(E70:BG70,"S","")))} -> 2 | BI70: {=SUM(LEN(E70:BG70)-LEN(SUBSTITUTE(E70:BG70,"C","")))} -> 2 | BJ70: {=SUM(LEN(E70:BG70)-LEN(SUBSTITUTE(E70:BG70,"L","")))} -> 0 | BK70: =BJ70+BI70+BH70 -> 4 | BL70: =Foglio1!B70 -> PALUMBO | BM70: =Foglio1!C70 -> ERNESTO | BN70: =Foglio1!D70 -> M
A71: =A70+1 -> 70 | B71: PETRILLO | C71: GIUSEPPINA | D71: F | P71: S | T71: S | AA71: S | AJ71: S | AX71: S | BH71: {=SUM(LEN(E71:BG71)-LEN(SUBSTITUTE(E71:BG71,"S","")))} -> 5 | BI71: {=SUM(LEN(E71:BG71)-LEN(SUBSTITUTE(E71:BG71,"C","")))} -> 0 | BJ71: {=SUM(LEN(E71:BG71)-LEN(SUBSTITUTE(E71:BG71,"L","")))} -> 0 | BK71: =BJ71+BI71+BH71 -> 5 | BL71: =Foglio1!B71 -> PETRILLO | BM71: =Foglio1!C71 -> GIUSEPPINA | BN71: =Foglio1!D71 -> F
A72: =A71+1 -> 71 | B72: PIERRO | C72: FRANCESCO | D72: M | H72: S | P72: S | T72: S | AD72: L | AJ72: S | AQ72: L | BH72: {=SUM(LEN(E72:BG72)-LEN(SUBSTITUTE(E72:BG72,"S","")))} -> 4 | BI72: {=SUM(LEN(E72:BG72)-LEN(SUBSTITUTE(E72:BG72,"C","")))} -> 0 | BJ72: {=SUM(LEN(E72:BG72)-LEN(SUBSTITUTE(E72:BG72,"L","")))} -> 2 | BK72: =BJ72+BI72+BH72 -> 6 | BL72: =Foglio1!B72 -> PIERRO | BM72: =Foglio1!C72 -> FRANCESCO | BN72: =Foglio1!D72 -> M
A73: =A72+1 -> 72 | B73: PIERRO | C73: PASQUALE | D73: M | H73: S | AA73: S | AQ73: L | BE73: S | BH73: {=SUM(LEN(E73:BG73)-LEN(SUBSTITUTE(E73:BG73,"S","")))} -> 3 | BI73: {=SUM(LEN(E73:BG73)-LEN(SUBSTITUTE(E73:BG73,"C","")))} -> 0 | BJ73: {=SUM(LEN(E73:BG73)-LEN(SUBSTITUTE(E73:BG73,"L","")))} -> 1 | BK73: =BJ73+BI73+BH73 -> 4 | BL73: =Foglio1!B73 -> PIERRO | BM73: =Foglio1!C73 -> PASQUALE | BN73: =Foglio1!D73 -> M
A74: =A73+1 -> 73 | B74: PONDURNO | C74: MICHELE | D74: M | H74: S | O74: L | P74: S | AA74: S | AJ74: S | AX74: S | BE74: S | BH74: {=SUM(LEN(E74:BG74)-LEN(SUBSTITUTE(E74:BG74,"S","")))} -> 6 | BI74: {=SUM(LEN(E74:BG74)-LEN(SUBSTITUTE(E74:BG74,"C","")))} -> 0 | BJ74: {=SUM(LEN(E74:BG74)-LEN(SUBSTITUTE(E74:BG74,"L","")))} -> 1 | BK74: =BJ74+BI74+BH74 -> 7 | BL74: =Foglio1!B74 -> PONDURNO | BM74: =Foglio1!C74 -> MICHELE | BN74: =Foglio1!D74 -> M
A75: =A74+1 -> 74 | B75: PUCA | C75: CARLO | D75: M | H75: S | O75: L | T75: S | AA75: S | AF75: C | AJ75: S | AX75: S | AY75: L | BH75: {=SUM(LEN(E75:BG75)-LEN(SUBSTITUTE(E75:BG75,"S","")))} -> 5 | BI75: {=SUM(LEN(E75:BG75)-LEN(SUBSTITUTE(E75:BG75,"C","")))} -> 1 | BJ75: {=SUM(LEN(E75:BG75)-LEN(SUBSTITUTE(E75:BG75,"L","")))} -> 2 | BK75: =BJ75+BI75+BH75 -> 8 | BL75: =Foglio1!B75 -> PUCA | BM75: =Foglio1!C75 -> CARLO | BN75: =Foglio1!D75 -> M
A76: =A75+1 -> 75 | B76: PUOTI | C76: BASILIO ANTONIO | D76: M | E76: L | H76: S | I76: L | K76: L | L76: C | P76: S | BH76: {=SUM(LEN(E76:BG76)-LEN(SUBSTITUTE(E76:BG76,"S","")))} -> 2 | BI76: {=SUM(LEN(E76:BG76)-LEN(SUBSTITUTE(E76:BG76,"C","")))} -> 1 | BJ76: {=SUM(LEN(E76:BG76)-LEN(SUBSTITUTE(E76:BG76,"L","")))} -> 3 | BK76: =BJ76+BI76+BH76 -> 6 | BL76: =Foglio1!B76 -> PUOTI | BM76: =Foglio1!C76 -> BASILIO ANTONIO | BN76: =Foglio1!D76 -> M
A77: =A76+1 -> 76 | B77: RICCIO | C77: LEOPOLDO | D77: M | AL77: L | AM77: S | BH77: {=SUM(LEN(E77:BG77)-LEN(SUBSTITUTE(E77:BG77,"S","")))} -> 1 | BI77: {=SUM(LEN(E77:BG77)-LEN(SUBSTITUTE(E77:BG77,"C","")))} -> 0 | BJ77: {=SUM(LEN(E77:BG77)-LEN(SUBSTITUTE(E77:BG77,"L","")))} -> 1 | BK77: =BJ77+BI77+BH77 -> 2 | BL77: =Foglio1!B77 -> RICCIO | BM77: =Foglio1!C77 -> LEOPOLDO | BN77: =Foglio1!D77 -> M
A78: =A77+1 -> 77 | B78: ROMANO | C78: ANTONIO | D78: M | H78: S | P78: S | R78: C | T78: S | AA78: S | AJ78: S | AM78: S | AX78: S | BE78: S | BH78: {=SUM(LEN(E78:BG78)-LEN(SUBSTITUTE(E78:BG78,"S","")))} -> 8 | BI78: {=SUM(LEN(E78:BG78)-LEN(SUBSTITUTE(E78:BG78,"C","")))} -> 1 | BJ78: {=SUM(LEN(E78:BG78)-LEN(SUBSTITUTE(E78:BG78,"L","")))} -> 0 | BK78: =BJ78+BI78+BH78 -> 9 | BL78: =Foglio1!B78 -> ROMANO | BM78: =Foglio1!C78 -> ANTONIO | BN78: =Foglio1!D78 -> M
A79: =A78+1 -> 78 | B79: ROMANO | C79: EMILIA | D79: F | H79: S | M79: L | O79: L | P79: S | T79: S | AA79: S | AF79: C | AH79: C | AK79: C | AM79: S | BD79: L | BE79: S | BH79: {=SUM(LEN(E79:BG79)-LEN(SUBSTITUTE(E79:BG79,"S","")))} -> 6 | BI79: {=SUM(LEN(E79:BG79)-LEN(SUBSTITUTE(E79:BG79,"C","")))} -> 3 | BJ79: {=SUM(LEN(E79:BG79)-LEN(SUBSTITUTE(E79:BG79,"L","")))} -> 3 | BK79: =BJ79+BI79+BH79 -> 12 | BL79: =Foglio1!B79 -> ROMANO | BM79: =Foglio1!C79 -> EMILIA | BN79: =Foglio1!D79 -> F
A80: =A79+1 -> 79 | B80: ROTA | C80: MASSIMILIANO | D80: M | H80: S | O80: L | R80: C | AA80: S | AH80: C | AJ80: S | AM80: S | AX80: S | BE80: S | BH80: {=SUM(LEN(E80:BG80)-LEN(SUBSTITUTE(E80:BG80,"S","")))} -> 6 | BI80: {=SUM(LEN(E80:BG80)-LEN(SUBSTITUTE(E80:BG80,"C","")))} -> 2 | BJ80: {=SUM(LEN(E80:BG80)-LEN(SUBSTITUTE(E80:BG80,"L","")))} -> 1 | BK80: =BJ80+BI80+BH80 -> 9 | BL80: =Foglio1!B80 -> ROTA | BM80: =Foglio1!C80 -> MASSIMILIANO | BN80: =Foglio1!D80 -> M
A81: =A80+1 -> 80 | B81: RUSSO | C81: ANTONIO | D81: M | F81: L | H81: S | K81: L | O81: L | P81: S | R81: C | T81: S | V81: L | Y81: L | AA81: S | AG81: L | AJ81: S | AM81: S | AR81: L | BE81: S | BH81: {=SUM(LEN(E81:BG81)-LEN(SUBSTITUTE(E81:BG81,"S","")))} -> 7 | BI81: {=SUM(LEN(E81:BG81)-LEN(SUBSTITUTE(E81:BG81,"C","")))} -> 1 | BJ81: {=SUM(LEN(E81:BG81)-LEN(SUBSTITUTE(E81:BG81,"L","")))} -> 7 | BK81: =BJ81+BI81+BH81 -> 15 | BL81: =Foglio1!B81 -> RUSSO | BM81: =Foglio1!C81 -> ANTONIO | BN81: =Foglio1!D81 -> M
A82: =A81+1 -> 81 | B82: RUSSO | C82: FRANCESCO | D82: M | G82: C | O82: L | R82: C | T82: S | U82: L | AA82: S | AH82: C | AJ82: S | AM82: S | AX82: S | BE82: S | BH82: {=SUM(LEN(E82:BG82)-LEN(SUBSTITUTE(E82:BG82,"S","")))} -> 6 | BI82: {=SUM(LEN(E82:BG82)-LEN(SUBSTITUTE(E82:BG82,"C","")))} -> 3 | BJ82: {=SUM(LEN(E82:BG82)-LEN(SUBSTITUTE(E82:BG82,"L","")))} -> 2 | BK82: =BJ82+BI82+BH82 -> 11 | BL82: =Foglio1!B82 -> RUSSO | BM82: =Foglio1!C82 -> FRANCESCO | BN82: =Foglio1!D82 -> M
A83: =A82+1 -> 82 | B83: RUSSO | C83: GIUSEPPE | D83: M | G83: C | H83: S | O83: L | T83: S | W83: L | Y83: L | AA83: S | AH83: C | AJ83: S | BE83: S | BH83: {=SUM(LEN(E83:BG83)-LEN(SUBSTITUTE(E83:BG83,"S","")))} -> 5 | BI83: {=SUM(LEN(E83:BG83)-LEN(SUBSTITUTE(E83:BG83,"C","")))} -> 2 | BJ83: {=SUM(LEN(E83:BG83)-LEN(SUBSTITUTE(E83:BG83,"L","")))} -> 3 | BK83: =BJ83+BI83+BH83 -> 10 | BL83: =Foglio1!B83 -> RUSSO | BM83: =Foglio1!C83 -> GIUSEPPE | BN83: =Foglio1!D83 -> M
A84: =A83+1 -> 83 | B84: RUSSO | C84: ROSA | D84: F | G84: C | H84: S | K84: L | N84: L | P84: S | R84: C | T84: S | U84: L | AA84: S | AH84: C | AJ84: S | AM84: S | AV84: L | AX84: S | AY84: L | BE84: S | BH84: {=SUM(LEN(E84:BG84)-LEN(SUBSTITUTE(E84:BG84,"S","")))} -> 8 | BI84: {=SUM(LEN(E84:BG84)-LEN(SUBSTITUTE(E84:BG84,"C","")))} -> 3 | BJ84: {=SUM(LEN(E84:BG84)-LEN(SUBSTITUTE(E84:BG84,"L","")))} -> 5 | BK84: =BJ84+BI84+BH84 -> 16 | BL84: =Foglio1!B84 -> RUSSO | BM84: =Foglio1!C84 -> ROSA | BN84: =Foglio1!D84 -> F
A85: =A84+1 -> 84 | B85: SANTORO | C85: ANTONIO | D85: M | BH85: {=SUM(LEN(E85:BG85)-LEN(SUBSTITUTE(E85:BG85,"S","")))} -> 0 | BI85: {=SUM(LEN(E85:BG85)-LEN(SUBSTITUTE(E85:BG85,"C","")))} -> 0 | BJ85: {=SUM(LEN(E85:BG85)-LEN(SUBSTITUTE(E85:BG85,"L","")))} -> 0 | BK85: =BJ85+BI85+BH85 -> 0 | BL85: =Foglio1!B85 -> SANTORO | BM85: =Foglio1!C85 -> ANTONIO | BN85: =Foglio1!D85 -> M
A86: =A85+1 -> 85 | B86: SGLAVO | C86: CARMINE | D86: M | H86: S | P86: S | T86: S | AA86: S | AH86: C | AJ86: S | AM86: S | AX86: S | BE86: S | BH86: {=SUM(LEN(E86:BG86)-LEN(SUBSTITUTE(E86:BG86,"S","")))} -> 8 | BI86: {=SUM(LEN(E86:BG86)-LEN(SUBSTITUTE(E86:BG86,"C","")))} -> 1 | BJ86: {=SUM(LEN(E86:BG86)-LEN(SUBSTITUTE(E86:BG86,"L","")))} -> 0 | BK86: =BJ86+BI86+BH86 -> 9 | BL86: =Foglio1!B86 -> SGLAVO | BM86: =Foglio1!C86 -> CARMINE | BN86: =Foglio1!D86 -> M
A87: =A86+1 -> 86 | B87: SGLAVO | C87: LUIGI | D87: M | H87: S | P87: S | R87: C | U87: L | AM87: S | BE87: S | BH87: {=SUM(LEN(E87:BG87)-LEN(SUBSTITUTE(E87:BG87,"S","")))} -> 4 | BI87: {=SUM(LEN(E87:BG87)-LEN(SUBSTITUTE(E87:BG87,"C","")))} -> 1 | BJ87: {=SUM(LEN(E87:BG87)-LEN(SUBSTITUTE(E87:BG87,"L","")))} -> 1 | BK87: =BJ87+BI87+BH87 -> 6 | BL87: =Foglio1!B87 -> SGLAVO | BM87: =Foglio1!C87 -> LUIGI | BN87: =Foglio1!D87 -> M
A88: =A87+1 -> 87 | B88: SORRENTINO | C88: PLACIDO | D88: M | G88: C | H88: S | L88: C | P88: S | Q88: L | R88: C | T88: S | AA88: S | AF88: C | AH88: C | AJ88: S | AK88: C | AS88: L | AX88: S | BE88: S | BH88: {=SUM(LEN(E88:BG88)-LEN(SUBSTITUTE(E88:BG88,"S","")))} -> 7 | BI88: {=SUM(LEN(E88:BG88)-LEN(SUBSTITUTE(E88:BG88,"C","")))} -> 6 | BJ88: {=SUM(LEN(E88:BG88)-LEN(SUBSTITUTE(E88:BG88,"L","")))} -> 2 | BK88: =BJ88+BI88+BH88 -> 15 | BL88: =Foglio1!B88 -> SORRENTINO | BM88: =Foglio1!C88 -> PLACIDO | BN88: =Foglio1!D88 -> M
A89: =A88+1 -> 88 | B89: SOZIO | C89: CARLA | D89: F | AA89: S | AF89: C | AJ89: S | AX89: S | AY89: L | BH89: {=SUM(LEN(E89:BG89)-LEN(SUBSTITUTE(E89:BG89,"S","")))} -> 3 | BI89: {=SUM(LEN(E89:BG89)-LEN(SUBSTITUTE(E89:BG89,"C","")))} -> 1 | BJ89: {=SUM(LEN(E89:BG89)-LEN(SUBSTITUTE(E89:BG89,"L","")))} -> 1 | BK89: =BJ89+BI89+BH89 -> 5 | BL89: =Foglio1!B89 -> SOZIO | BM89: =Foglio1!C89 -> CARLA | BN89: =Foglio1!D89 -> F
A90: =A89+1 -> 89 | B90: SUPPA | C90: ROBERTO | D90: M | H90: S | O90: L | P90: S | T90: S | Y90: L | AE90: L | AJ90: S | AX90: S | BH90: {=SUM(LEN(E90:BG90)-LEN(SUBSTITUTE(E90:BG90,"S","")))} -> 5 | BI90: {=SUM(LEN(E90:BG90)-LEN(SUBSTITUTE(E90:BG90,"C","")))} -> 0 | BJ90: {=SUM(LEN(E90:BG90)-LEN(SUBSTITUTE(E90:BG90,"L","")))} -> 3 | BK90: =BJ90+BI90+BH90 -> 8 | BL90: =Foglio1!B90 -> SUPPA | BM90: =Foglio1!C90 -> ROBERTO | BN90: =Foglio1!D90 -> M
A91: =A90+1 -> 90 | B91: TAGLIAFIERRO | C91: ANTONIO | D91: M | O91: L | X91: L | AA91: S | AM91: S | BH91: {=SUM(LEN(E91:BG91)-LEN(SUBSTITUTE(E91:BG91,"S","")))} -> 2 | BI91: {=SUM(LEN(E91:BG91)-LEN(SUBSTITUTE(E91:BG91,"C","")))} -> 0 | BJ91: {=SUM(LEN(E91:BG91)-LEN(SUBSTITUTE(E91:BG91,"L","")))} -> 2 | BK91: =BJ91+BI91+BH91 -> 4 | BL91: =Foglio1!B91 -> TAGLIAFIERRO | BM91: =Foglio1!C91 -> ANTONIO | BN91: =Foglio1!D91 -> M
A92: =A91+1 -> 91 | B92: TRAMONTANO | C92: LUIGI | D92: M | H92: S | P92: S | T92: S | AA92: S | AJ92: S | AM92: S | AX92: S | BE92: S | BH92: {=SUM(LEN(E92:BG92)-LEN(SUBSTITUTE(E92:BG92,"S","")))} -> 8 | BI92: {=SUM(LEN(E92:BG92)-LEN(SUBSTITUTE(E92:BG92,"C","")))} -> 0 | BJ92: {=SUM(LEN(E92:BG92)-LEN(SUBSTITUTE(E92:BG92,"L","")))} -> 0 | BK92: =BJ92+BI92+BH92 -> 8 | BL92: =Foglio1!B92 -> TRAMONTANO | BM92: =Foglio1!C92 -> LUIGI | BN92: =Foglio1!D92 -> M
A93: =A92+1 -> 92 | B93: TRIMARCHI | C93: GABRIELLA | D93: F | M93: L | P93: S | T93: S | AA93: S | AB93: L | AH93: C | AM93: S | BH93: {=SUM(LEN(E93:BG93)-LEN(SUBSTITUTE(E93:BG93,"S","")))} -> 4 | BI93: {=SUM(LEN(E93:BG93)-LEN(SUBSTITUTE(E93:BG93,"C","")))} -> 1 | BJ93: {=SUM(LEN(E93:BG93)-LEN(SUBSTITUTE(E93:BG93,"L","")))} -> 2 | BK93: =BJ93+BI93+BH93 -> 7 | BL93: =Foglio1!B93 -> TRIMARCHI | BM93: =Foglio1!C93 -> GABRIELLA | BN93: =Foglio1!D93 -> F
A94: =A93+1 -> 93 | B94: VASELLINI | C94: GERARDO | D94: M | BH94: {=SUM(LEN(E94:BG94)-LEN(SUBSTITUTE(E94:BG94,"S","")))} -> 0 | BI94: {=SUM(LEN(E94:BG94)-LEN(SUBSTITUTE(E94:BG94,"C","")))} -> 0 | BJ94: {=SUM(LEN(E94:BG94)-LEN(SUBSTITUTE(E94:BG94,"L","")))} -> 0 | BK94: =BJ94+BI94+BH94 -> 0 | BL94: =Foglio1!B94 -> VASELLINI | BM94: =Foglio1!C94 -> GERARDO | BN94: =Foglio1!D94 -> M
A95: 94 | B95: VASSALLO | C95: ACHILLE | AM95: S | AX95: S | AY95: L | BB95: L | BE95: S | BH95: 3 | BI95: 0 | BJ95: 2 | BK95: 4 | BL95: VASSALLO | BM95: ACHILLE | BN95: M
A96: 95 | B96: VERDE | C96: GAETANA | D96: F | F96: L | G96: C | H96: S | K96: L | M96: L | P96: S | R96: C | T96: S | U96: L | AA96: S | AB96: L | AJ96: S | AM96: S | AX96: S | BA96: L | BF96: L | BH96: {=SUM(LEN(E96:BG96)-LEN(SUBSTITUTE(E96:BG96,"S","")))} -> 7 | BI96: {=SUM(LEN(E96:BG96)-LEN(SUBSTITUTE(E96:BG96,"C","")))} -> 2 | BJ96: {=SUM(LEN(E96:BG96)-LEN(SUBSTITUTE(E96:BG96,"L","")))} -> 7 | BK96: =BJ96+BI96+BH96 -> 16 | BL96: =Foglio1!B96 -> VERDE | BM96: =Foglio1!C96 -> GAETANA | BN96: =Foglio1!D96 -> F
A97: =A96+1 -> 96 | B97: VERDE | C97: NICOLA | D97: M | H97: S | O97: L | T97: S | AA97: S | AJ97: S | BH97: {=SUM(LEN(E97:BG97)-LEN(SUBSTITUTE(E97:BG97,"S","")))} -> 4 | BI97: {=SUM(LEN(E97:BG97)-LEN(SUBSTITUTE(E97:BG97,"C","")))} -> 0 | BJ97: {=SUM(LEN(E97:BG97)-LEN(SUBSTITUTE(E97:BG97,"L","")))} -> 1 | BK97: =BJ97+BI97+BH97 -> 5 | BL97: =Foglio1!B97 -> VERDE | BM97: =Foglio1!C97 -> NICOLA | BN97: =Foglio1!D97 -> M
A98: =A97+1 -> 97 | B98: VERDE | C98: PAOLO | D98: M | H98: S | P98: S | R98: C | T98: S | AA98: S | AJ98: S | AM98: S | BE98: S | BH98: {=SUM(LEN(E98:BG98)-LEN(SUBSTITUTE(E98:BG98,"S","")))} -> 7 | BI98: {=SUM(LEN(E98:BG98)-LEN(SUBSTITUTE(E98:BG98,"C","")))} -> 1 | BJ98: {=SUM(LEN(E98:BG98)-LEN(SUBSTITUTE(E98:BG98,"L","")))} -> 0 | BK98: =BJ98+BI98+BH98 -> 8 | BL98: =Foglio1!B98 -> VERDE | BM98: =Foglio1!C98 -> PAOLO | BN98: =Foglio1!D98 -> M
A99: =A98+1 -> 98 | B99: VETTONE | C99: DOMENICO | D99: M | G99: C | H99: S | BH99: {=SUM(LEN(E99:BG99)-LEN(SUBSTITUTE(E99:BG99,"S","")))} -> 1 | BI99: {=SUM(LEN(E99:BG99)-LEN(SUBSTITUTE(E99:BG99,"C","")))} -> 1 | BJ99: {=SUM(LEN(E99:BG99)-LEN(SUBSTITUTE(E99:BG99,"L","")))} -> 0 | BK99: =BJ99+BI99+BH99 -> 2 | BL99: =Foglio1!B99 -> VETTONE | BM99: =Foglio1!C99 -> DOMENICO | BN99: =Foglio1!D99 -> M
A100: =A99+1 -> 99 | B100: VILLANO | C100: ANNA MARIA | D100: F | H100: S | M100: L | P100: S | T100: S | AA100: S | AF100: C | AJ100: S | AM100: S | AX100: S | BH100: {=SUM(LEN(E100:BG100)-LEN(SUBSTITUTE(E100:BG100,"S","")))} -> 7 | BI100: {=SUM(LEN(E100:BG100)-LEN(SUBSTITUTE(E100:BG100,"C","")))} -> 1 | BJ100: {=SUM(LEN(E100:BG100)-LEN(SUBSTITUTE(E100:BG100,"L","")))} -> 1 | BK100: =BJ100+BI100+BH100 -> 9 | BL100: =Foglio1!B100 -> VILLANO | BM100: =Foglio1!C100 -> ANNA MARIA | BN100: =Foglio1!D100 -> F
...
