Workbook

Sheet Foglio1
A1: N. ATLETI | B1: COGNOME | C1: NOME | D1: SESSO | E1: PALMA CAMPANIA 04.01.2026 LIBERA | F1: ACERRA 06.01.2026 LIBERA | G1: MARIGLIANO 11.01.2026 CONSIGLIATA | H1: SANT'ANTONIO AB 18.01.2026 SOCIETARIA | I1: NOCERA INF 25.01.2026 LIBERA 10KM | J1: NOCERA INF 25.01.2026 LIBERA 21KM | K1: VICO EQUENSE 01.02.2026 LIBERA 16KM | L1: TUFINO 15.02.2026 CONSIGLIATA 10KM | M1: TERNI 15.02.2026 LIBERA 21KM | N1: BARCELLONA 15.02.2026 LIBERA 21KM | O1: NAPOLI 22.02.2026 LIBERA 21KM | P1: BRUSCIANO 01.03.2026 SOCIETARIA 10KM | Q1: CICCIANO 08.03.2026 LIBERA 10KM | R1: SANT'ARPINO 15.03.2026 CONSIGLIATA 10KM | S1: MADRID 22.03.2026 LIBERA 21KM | T1: BACOLI 29.03.2026 SOCIETARIA 10KM | U1: AGROPOLI 12.04.2026 LIBERA 21KM | V1: CASERTA 12.04.2026 LIBERA 10KM | W1: MILANO 12.04.2026 LIBERA 42KM | X1: PARIGI 12.04.2026 LIBERA 42KM | Y1: FRATTAMAGGIORE 19.04.2026 LIBERA 10KM | Z1: MONDRAGONE 2.04.2026 LIBERA 10KM | AA1: AVERSA 26.04.2026 SOCIETARIA 10KM | AB1: VITULAZIO 01.05.026 LIBERA 10KM | AC1: MILANO 01.05.2026 LIBERA 10KM | AD1: MILANO 01.05.2026 LIBERA 21KM | AE1: NOCERA INF. 09.05.2026 PISTA 1500 MT. LIBERA | AF1: PARETE 10.05.2026 CONSIGLIATA 10KM | AG1: ATRIPALDA 10.05.2026 LIBERA 10KM | AH1: CASERTA 17.05.2026 CONSIGLIATA 10KM | AI1: SIANO 23.05.2026 LIBERA | AJ1: CAIVANO 24.05.2026 SOCIETARIA 10KM | AK1: VILLA DI BRIANO 31.05.2026 CONSIGLIATA 10KM | AL1: SAN NICOLA LA STRADA 02.06.2026 LIBERA 10KM | AM1: MADDALONI 07.06.2026 SOCIETARIA 10 KM | AN1: S. ANDREA DEL PIZZONE 14.06.2026 CONS. 10 KM | AO1: ECOMARATONA 14.06.2026 LIBERA 17 KM | AP1: NAPOLI 14.06.2026 LIBERA PISTA 5000 MT | AQ1: SPACCANAPOLI 21.06.2026 LIBERA 8 KM | AR1: AVELLINO 19.06.2026 LIBERA PISTA 3000 MT | AS1: S. AGATA DEI GOTI 20.06.2026 LIBERA 10 KM | AT1: ALVIGNANO 28.06.2026 CONSIGLIATA 10KM | AU1: MARANO 28.06.2026 CONSIGLIATA 10 KM | AV1: COPPA CRISTOFARO 28.06.2026 LIBERA PISTA | AW1: LIMATOLA 05.07.2026 CONSIGLIATA 10 KM | AX1: AVERSA 12.07.2026 SOCIETARIA 10 KM | AY1: 3 COMUNI 19.07.2026 LIBERA 15 KM | AZ1: COPERTINO 19.07.2026 7,5 KM LIBERA | BA1: POZZILLI 01.08.2026 LIBERA 10 KM | BB1: CALVI RISORTA 30.08.2026 LIBERA 8 KM | BC1: S. MARIA C.V. 06.09.2026 CONSIGLIATA 10 KM | BD1: BUDAPEST 06.09.2026 LIBERA 21 KM | BE1: MARCIANISE 13.06.2025 SOCIETARIA 10 KM | BF1: POLLA 13.06.2026 LIBERA 10 KM | BH1: GARE SOCIETARIE | BI1: GARE CONSIGLIATE | BJ1: GARE LIBERE | BK1: TOTALE GARE | BL1: COGNOME | BM1: NOME | BN1: SESSO
A2: 1 | B2: AMATUCCI | C2: FRANCESCO | D2: M | H2: S | O2: L | P2: S | T2: S | U2: L | BE2: S | BH2: {=SUM(LEN(E2:BG2)-LEN(SUBSTITUTE(E2:BG2,"S","")))} -> 4 | BI2: {=SUM(LEN(E2:BG2)-LEN(SUBSTITUTE(E2:BG2,"C","")))} -> 0 | BJ2: {=SUM(LEN(E2:BG2)-LEN(SUBSTITUTE(E2:BG2,"L","")))} -> 2 | BK2: =BJ2+BI2+BH2 -> 6 | BL2: =Foglio1!B2 -> AMATUCCI | BM2: =Foglio1!C2 -> FRANCESCO | BN2: =Foglio1!D2 -> M
A3: =A2+1 -> 2 | B3: AMICO | C3: MASSIMO | D3: M | P3: S | R3: C | T3: S | Y3: L | AA3: S | AH3: C | AJ3: S | AX3: S | BH3: {=SUM(LEN(E3:BG3)-LEN(SUBSTITUTE(E3:BG3,"S","")))} -> 5 | BI3: {=SUM(LEN(E3:BG3)-LEN(SUBSTITUTE(E3:BG3,"C","")))} -> 2 | BJ3: {=SUM(LEN(E3:BG3)-LEN(SUBSTITUTE(E3:BG3,"L","")))} -> 1 | BK3: =BJ3+BI3+BH3 -> 8 | BL3: =Foglio1!B3 -> AMICO | BM3: =Foglio1!C3 -> MASSIMO | BN3: =Foglio1!D3 -> M
A4: =A3+1 -> 3 | B4: ANDREOZZI | C4: MICHELANGELO | D4: M | H4: S | O4: L | T4: S | X4: L | AA4: S | AF4: C | BE4: S | BH4: {=SUM(LEN(E4:BG4)-LEN(SUBSTITUTE(E4:BG4,"S","")))} -> 4 | BI4: {=SUM(LEN(E4:BG4)-LEN(SUBSTITUTE(E4:BG4,"C","")))} -> 1 | BJ4: {=SUM(LEN(E4:BG4)-LEN(SUBSTITUTE(E4:BG4,"L","")))} -> 2 | BK4: =BJ4+BI4+BH4 -> 7 | BL4: =Foglio1!B4 -> ANDREOZZI | BM4: =Foglio1!C4 -> MICHELANGELO | BN4: =Foglio1!D4 -> M
A5: =A4+1 -> 4 | B5: ANGELINO | C5: VINCENZO | D5: M | P5: S | R5: C | S5: L | T5: S | Y5: L | AA5: S | AH5: C | AJ5: S | AM5: S | BH5: {=SUM(LEN(E5:BG5)-LEN(SUBSTITUTE(E5:BG5,"S","")))} -> 5 | BI5: {=SUM(LEN(E5:BG5)-LEN(SUBSTITUTE(E5:BG5,"C","")))} -> 2 | BJ5: {=SUM(LEN(E5:BG5)-LEN(SUBSTITUTE(E5:BG5,"L","")))} -> 2 | BK5: =BJ5+BI5+BH5 -> 9 | BL5: =Foglio1!B5 -> ANGELINO | BM5: =Foglio1!C5 -> VINCENZO | BN5: =Foglio1!D5 -> M
A6: =A5+1 -> 5 | B6: APRILE | C6: ARTURO | D6: M | P6: S | T6: S | AA6: S | AJ6: S | BH6: {=SUM(LEN(E6:BG6)-LEN(SUBSTITUTE(E6:BG6,"S","")))} -> 4 | BI6: {=SUM(LEN(E6:BG6)-LEN(SUBSTITUTE(E6:BG6,"C","")))} -> 0 | BJ6: {=SUM(LEN(E6:BG6)-LEN(SUBSTITUTE(E6:BG6,"L","")))} -> 0 | BK6: =BJ6+BI6+BH6 -> 4 | BL6: =Foglio1!B6 -> APRILE | BM6: =Foglio1!C6 -> ARTURO | BN6: =Foglio1!D6 -> M
A7: =A6+1 -> 6 | B7: ASSOULI | C7: AYMEN | D7: M | T7: S | AA7: S | AH7: C | AX7: S | BE7: S | BH7: {=SUM(LEN(E7:BG7)-LEN(SUBSTITUTE(E7:BG7,"S","")))} -> 4 | BI7: {=SUM(LEN(E7:BG7)-LEN(SUBSTITUTE(E7:BG7,"C","")))} -> 1 | BJ7: {=SUM(LEN(E7:BG7)-LEN(SUBSTITUTE(E7:BG7,"L","")))} -> 0 | BK7: =BJ7+BI7+BH7 -> 5 | BL7: =Foglio1!B7 -> ASSOULI | BM7: =Foglio1!C7 -> AYMEN | BN7: =Foglio1!D7 -> M
A8: =A7+1 -> 7 | B8: BALDASSINI | C8: JESSICA | D8: F | AA8: S | AH8: C | AM8: S | BH8: {=SUM(LEN(E8:BG8)-LEN(SUBSTITUTE(E8:BG8,"S","")))} -> 2 | BI8: {=SUM(LEN(E8:BG8)-LEN(SUBSTITUTE(E8:BG8,"C","")))} -> 1 | BJ8: {=SUM(LEN(E8:BG8)-LEN(SUBSTITUTE(E8:BG8,"L","")))} -> 0 | BK8: =BJ8+BI8+BH8 -> 3 | BL8: =Foglio1!B8 -> BALDASSINI | BM8: =Foglio1!C8 -> JESSICA | BN8: =Foglio1!D8 -> F
A9: =A8+1 -> 8 | B9: BALDIERI | C9: FRANCESCO | D9: M | H9: S | K9: L | O9: L | T9: S | AA9: S | AH9: C | AJ9: S | AM9: S | AX9: S | AY9: L | BE9: S | BH9: {=SUM(LEN(E9:BG9)-LEN(SUBSTITUTE(E9:BG9,"S","")))} -> 7 | BI9: {=SUM(LEN(E9:BG9)-LEN(SUBSTITUTE(E9:BG9,"C","")))} -> 1 | BJ9: {=SUM(LEN(E9:BG9)-LEN(SUBSTITUTE(E9:BG9,"L","")))} -> 3 | BK9: =BJ9+BI9+BH9 -> 11 | BL9: =Foglio1!B9 -> BALDIERI | BM9: =Foglio1!C9 -> FRANCESCO | BN9: =Foglio1!D9 -> M
A10: =A9+1 -> 9 | B10: BELLUOMO | C10: GIOVANNI | D10: M | H10: S | M10: L | AJ10: S | AM10: S | AX10: S | BE10: S | BH10: {=SUM(LEN(E10:BG10)-LEN(SUBSTITUTE(E10:BG10,"S","")))} -> 5 | BI10: {=SUM(LEN(E10:BG10)-LEN(SUBSTITUTE(E10:BG10,"C","")))} -> 0 | BJ10: {=SUM(LEN(E10:BG10)-LEN(SUBSTITUTE(E10:BG10,"L","")))} -> 1 | BK10: =BJ10+BI10+BH10 -> 6 | BL10: =Foglio1!B10 -> BELLUOMO | BM10: =Foglio1!C10 -> GIOVANNI | BN10: =Foglio1!D10 -> M
A11: =A10+1 -> 10 | B11: BENCIVENGA | C11: RICCARDO | D11: M | O11: L | P11: S | R11: C | T11: S | AA11: S | AF11: C | AH11: C | AK11: C | AX11: S | BE11: S | BH11: {=SUM(LEN(E11:BG11)-LEN(SUBSTITUTE(E11:BG11,"S","")))} -> 5 | BI11: {=SUM(LEN(E11:BG11)-LEN(SUBSTITUTE(E11:BG11,"C","")))} -> 4 | BJ11: {=SUM(LEN(E11:BG11)-LEN(SUBSTITUTE(E11:BG11,"L","")))} -> 1 | BK11: =BJ11+BI11+BH11 -> 10 | BL11: =Foglio1!B11 -> BENCIVENGA | BM11: =Foglio1!C11 -> RICCARDO | BN11: =Foglio1!D11 -> M
A12: =A11+1 -> 11 | B12: BENNATO | C12: VINCENZO | D12: M | H12: S | O12: L | P12: S | T12: S | AD12: L | AJ12: S | AQ12: L | BE12: S | BH12: {=SUM(LEN(E12:BG12)-LEN(SUBSTITUTE(E12:BG12,"S","")))} -> 5 | BI12: {=SUM(LEN(E12:BG12)-LEN(SUBSTITUTE(E12:BG12,"C","")))} -> 0 | BJ12: {=SUM(LEN(E12:BG12)-LEN(SUBSTITUTE(E12:BG12,"L","")))} -> 3 | BK12: =BJ12+BI12+BH12 -> 8 | BL12: =Foglio1!B12 -> BENNATO | BM12: =Foglio1!C12 -> VINCENZO | BN12: =Foglio1!D12 -> M
A13: =A12+1 -> 12 | B13: BIANCOLELLA | C13: CARLO | D13: M | T13: S | AA13: S | AX13: S | BE13: S | BH13: {=SUM(LEN(E13:BG13)-LEN(SUBSTITUTE(E13:BG13,"S","")))} -> 4 | BI13: {=SUM(LEN(E13:BG13)-LEN(SUBSTITUTE(E13:BG13,"C","")))} -> 0 | BJ13: {=SUM(LEN(E13:BG13)-LEN(SUBSTITUTE(E13:BG13,"L","")))} -> 0 | BK13: =BJ13+BI13+BH13 -> 4 | BL13: =Foglio1!B13 -> BIANCOLELLA | BM13: =Foglio1!C13 -> CARLO | BN13: =Foglio1!D13 -> M
A14: =A13+1 -> 13 | B14: BUONANNO | C14: SALVATORE | D14: M | H14: S | O14: L | P14: S | T14: S | AA14: S | AJ14: S | AM14: S | AX14: S | BE14: S | BH14: {=SUM(LEN(E14:BG14)-LEN(SUBSTITUTE(E14:BG14,"S","")))} -> 8 | BI14: {=SUM(LEN(E14:BG14)-LEN(SUBSTITUTE(E14:BG14,"C","")))} -> 0 | BJ14: {=SUM(LEN(E14:BG14)-LEN(SUBSTITUTE(E14:BG14,"L","")))} -> 1 | BK14: =BJ14+BI14+BH14 -> 9 | BL14: =Foglio1!B14 -> BUONANNO | BM14: =Foglio1!C14 -> SALVATORE | BN14: =Foglio1!D14 -> M
A15: =A14+1 -> 14 | B15: CACCIOLA | C15: RENZO | D15: M | AJ15: S | AK15: C | AM15: S | AX15: S | BE15: S | BH15: {=SUM(LEN(E15:BG15)-LEN(SUBSTITUTE(E15:BG15,"S","")))} -> 4 | BI15: {=SUM(LEN(E15:BG15)-LEN(SUBSTITUTE(E15:BG15,"C","")))} -> 1 | BJ15: {=SUM(LEN(E15:BG15)-LEN(SUBSTITUTE(E15:BG15,"L","")))} -> 0 | BK15: =BJ15+BI15+BH15 -> 5 | BL15: =Foglio1!B15 -> CACCIOLA | BM15: =Foglio1!C15 -> RENZO | BN15: M
A16: =A15+1 -> 15 | B16: CARIFI | C16: MARIA ROSARIA | D16: F | P16: S | AX16: S | BH16: {=SUM(LEN(E16:BG16)-LEN(SUBSTITUTE(E16:BG16,"S","")))} -> 2 | BI16: {=SUM(LEN(E16:BG16)-LEN(SUBSTITUTE(E16:BG16,"C","")))} -> 0 | BJ16: {=SUM(LEN(E16:BG16)-LEN(SUBSTITUTE(E16:BG16,"L","")))} -> 0 | BK16: =BJ16+BI16+BH16 -> 2 | BL16: =Foglio1!B16 -> CARIFI | BM16: =Foglio1!C16 -> MARIA ROSARIA | BN16: =Foglio1!D16 -> F
A17: =A16+1 -> 16 | B17: CHIACCHIO | C17: DOMENICO | D17: M | G17: C | H17: S | L17: C | P17: S | Q17: L | R17: C | T17: S | AA17: S | AF17: C | AH17: C | AJ17: S | AK17: C | AM17: S | AN17: C | AU17: C | AX17: S | BC17: C | BE17: S | BH17: {=SUM(LEN(E17:BG17)-LEN(SUBSTITUTE(E17:BG17,"S","")))} -> 8 | BI17: {=SUM(LEN(E17:BG17)-LEN(SUBSTITUTE(E17:BG17,"C","")))} -> 9 | BJ17: {=SUM(LEN(E17:BG17)-LEN(SUBSTITUTE(E17:BG17,"L","")))} -> 1 | BK17: =BJ17+BI17+BH17 -> 18 | BL17: =Foglio1!B17 -> CHIACCHIO | BM17: =Foglio1!C17 -> DOMENICO | BN17: =Foglio1!D17 -> M
A18: =A17+1 -> 17 | B18: CITARELLA | C18: PAOLO | D18: M | P18: S | AX18: S | BH18: {=SUM(LEN(E18:BG18)-LEN(SUBSTITUTE(E18:BG18,"S","")))} -> 2 | BI18: {=SUM(LEN(E18:BG18)-LEN(SUBSTITUTE(E18:BG18,"C","")))} -> 0 | BJ18: {=SUM(LEN(E18:BG18)-LEN(SUBSTITUTE(E18:BG18,"L","")))} -> 0 | BK18: =BJ18+BI18+BH18 -> 2 | BL18: =Foglio1!B18 -> CITARELLA | BM18: =Foglio1!C18 -> PAOLO | BN18: =Foglio1!D18 -> M
A19: =A18+1 -> 18 | B19: COLELLA | C19: LUIGI | D19: M | H19: S | L19: C | P19: S | R19: C | T19: S | AA19: S | AF19: C | AH19: C | AX19: S | BE19: S | BH19: {=SUM(LEN(E19:BG19)-LEN(SUBSTITUTE(E19:BG19,"S","")))} -> 6 | BI19: {=SUM(LEN(E19:BG19)-LEN(SUBSTITUTE(E19:BG19,"C","")))} -> 4 | BJ19: {=SUM(LEN(E19:BG19)-LEN(SUBSTITUTE(E19:BG19,"L","")))} -> 0 | BK19: =BJ19+BI19+BH19 -> 10 | BL19: =Foglio1!B19 -> COLELLA | BM19: =Foglio1!C19 -> LUIGI | BN19: =Foglio1!D19 -> M
A20: =A19+1 -> 19 | B20: COMPARONE | C20: MARIA | D20: F | H20: S | P20: S | T20: S | AA20: S | AH20: C | AJ20: S | AM20: S | BE20: S | BH20: {=SUM(LEN(E20:BG20)-LEN(SUBSTITUTE(E20:BG20,"S","")))} -> 7 | BI20: {=SUM(LEN(E20:BG20)-LEN(SUBSTITUTE(E20:BG20,"C","")))} -> 1 | BJ20: {=SUM(LEN(E20:BG20)-LEN(SUBSTITUTE(E20:BG20,"L","")))} -> 0 | BK20: =BJ20+BI20+BH20 -> 8 | BL20: =Foglio1!B20 -> COMPARONE | BM20: =Foglio1!C20 -> MARIA | BN20: =Foglio1!D20 -> F
A21: =A20+1 -> 20 | B21: CORONELLA | C21: FILOMENA | D21: F | X21: L | AA21: S | AF21: C | AM21: S | BE21: S | BH21: {=SUM(LEN(E21:BG21)-LEN(SUBSTITUTE(E21:BG21,"S","")))} -> 3 | BI21: {=SUM(LEN(E21:BG21)-LEN(SUBSTITUTE(E21:BG21,"C","")))} -> 1 | BJ21: {=SUM(LEN(E21:BG21)-LEN(SUBSTITUTE(E21:BG21,"L","")))} -> 1 | BK21: =BJ21+BI21+BH21 -> 5 | BL21: =Foglio1!B21 -> CORONELLA | BM21: =Foglio1!C21 -> FILOMENA | BN21: =Foglio1!D21 -> F
A22: =A21+1 -> 21 | B22: D'AMBROSIO | C22: ANNA | D22: F | P22: S | T22: S | AA22: S | AH22: C | AJ22: S | AX22: S | BH22: {=SUM(LEN(E22:BG22)-LEN(SUBSTITUTE(E22:BG22,"S","")))} -> 5 | BI22: {=SUM(LEN(E22:BG22)-LEN(SUBSTITUTE(E22:BG22,"C","")))} -> 1 | BJ22: {=SUM(LEN(E22:BG22)-LEN(SUBSTITUTE(E22:BG22,"L","")))} -> 0 | BK22: =BJ22+BI22+BH22 -> 6 | BL22: =Foglio1!B22 -> D'AMBROSIO | BM22: =Foglio1!C22 -> ANNA | BN22: =Foglio1!D22 -> F
A23: =A22+1 -> 22 | B23: D'AMBROSIO | C23: CIRO | D23: M | M23: L | P23: S | T23: S | AB23: L | AH23: C | AM23: S | BH23: {=SUM(LEN(E23:BG23)-LEN(SUBSTITUTE(E23:BG23,"S","")))} -> 3 | BI23: {=SUM(LEN(E23:BG23)-LEN(SUBSTITUTE(E23:BG23,"C","")))} -> 1 | BJ23: {=SUM(LEN(E23:BG23)-LEN(SUBSTITUTE(E23:BG23,"L","")))} -> 2 | BK23: =BJ23+BI23+BH23 -> 6 | BL23: =Foglio1!B23 -> D'AMBROSIO | BM23: =Foglio1!C23 -> CIRO | BN23: =Foglio1!D23 -> M
A24: =A23+1 -> 23 | B24: D'ANIELLO | C24: ORESTE | D24: M | F24: L | G24: C | H24: S | I24: L | K24: L | L24: C | P24: S | R24: C | T24: S | V24: L | AA24: S | AB24: L | AF24: C | AH24: C | AJ24: S | AK24: C | AL24: L | AM24: S | AN24: C | AQ24: L | AT24: C | AW24: C | AX24: S | BB24: L | BC24: C | BE24: S | BH24: {=SUM(LEN(E24:BG24)-LEN(SUBSTITUTE(E24:BG24,"S","")))} -> 8 | BI24: {=SUM(LEN(E24:BG24)-LEN(SUBSTITUTE(E24:BG24,"C","")))} -> 10 | BJ24: {=SUM(LEN(E24:BG24)-LEN(SUBSTITUTE(E24:BG24,"L","")))} -> 8 | BK24: =BJ24+BI24+BH24 -> 26 | BL24: =Foglio1!B24 -> D'ANIELLO | BM24: =Foglio1!C24 -> ORESTE | BN24: =Foglio1!D24 -> M
A25: =A24+1 -> 24 | B25: DE MAIO | C25: ANIELLO | D25: M | H25: S | P25: S | T25: S | AA25: S | AJ25: S | AM25: S | AX25: S | BH25: {=SUM(LEN(E25:BG25)-LEN(SUBSTITUTE(E25:BG25,"S","")))} -> 7 | BI25: {=SUM(LEN(E25:BG25)-LEN(SUBSTITUTE(E25:BG25,"C","")))} -> 0 | BJ25: {=SUM(LEN(E25:BG25)-LEN(SUBSTITUTE(E25:BG25,"L","")))} -> 0 | BK25: =BJ25+BI25+BH25 -> 7 | BL25: =Foglio1!B25 -> DE MAIO | BM25: =Foglio1!C25 -> ANIELLO | BN25: =Foglio1!D25 -> M
A26: =A25+1 -> 25 | B26: DELLA VECCHIA | C26: GIUSEPPINA | D26: F | V26: L | Z26: L | AA26: S | AH26: C | AI26: L | AJ26: S | AK26: C | BH26: {=SUM(LEN(E26:BG26)-LEN(SUBSTITUTE(E26:BG26,"S","")))} -> 2 | BI26: {=SUM(LEN(E26:BG26)-LEN(SUBSTITUTE(E26:BG26,"C","")))} -> 2 | BJ26: {=SUM(LEN(E26:BG26)-LEN(SUBSTITUTE(E26:BG26,"L","")))} -> 3 | BK26: =BJ26+BI26+BH26 -> 7 | BL26: =Foglio1!B26 -> DELLA VECCHIA | BM26: =Foglio1!C26 -> GIUSEPPINA | BN26: =Foglio1!D26 -> F
A27: =A26+1 -> 26 | B27: DELLA VOLPE | C27: FABIO | D27: M | H27: S | P27: S | T27: S | Y27: L | AA27: S | AH27: C | AJ27: S | AO27: L | AX27: S | BH27: {=SUM(LEN(E27:BG27)-LEN(SUBSTITUTE(E27:BG27,"S","")))} -> 6 | BI27: {=SUM(LEN(E27:BG27)-LEN(SUBSTITUTE(E27:BG27,"C","")))} -> 1 | BJ27: {=SUM(LEN(E27:BG27)-LEN(SUBSTITUTE(E27:BG27,"L","")))} -> 2 | BK27: =BJ27+BI27+BH27 -> 9 | BL27: =Foglio1!B27 -> DELLA VOLPE | BM27: =Foglio1!C27 -> FABIO | BN27: =Foglio1!D27 -> M
A28: =A27+1 -> 27 | B28: DE ROSA | C28: MARIA ITALIA | D28: F | H28: S | K28: L | T28: S | AA28: S | AH28: C | AJ28: S | AM28: S | AX28: S | BH28: {=SUM(LEN(E28:BG28)-LEN(SUBSTITUTE(E28:BG28,"S","")))} -> 6 | BI28: {=SUM(LEN(E28:BG28)-LEN(SUBSTITUTE(E28:BG28,"C","")))} -> 1 | BJ28: {=SUM(LEN(E28:BG28)-LEN(SUBSTITUTE(E28:BG28,"L","")))} -> 1 | BK28: =BJ28+BI28+BH28 -> 8 | BL28: =Foglio1!B28 -> DE ROSA | BM28: =Foglio1!C28 -> MARIA ITALIA | BN28: =Foglio1!D28 -> F
A29: =A28+1 -> 28 | B29: DI GRAZIA | C29: LUIGI | D29: M | H29: S | M29: L | O29: L | P29: S | T29: S | U29: L | X29: L | AA29: S | AF29: C | AJ29: S | AM29: S | AX29: S | AZ29: L | BA29: L | BE29: S | BH29: {=SUM(LEN(E29:BG29)-LEN(SUBSTITUTE(E29:BG29,"S","")))} -> 8 | BI29: {=SUM(LEN(E29:BG29)-LEN(SUBSTITUTE(E29:BG29,"C","")))} -> 1 | BJ29: {=SUM(LEN(E29:BG29)-LEN(SUBSTITUTE(E29:BG29,"L","")))} -> 6 | BK29: =BJ29+BI29+BH29 -> 15 | BL29: =Foglio1!B29 -> DI GRAZIA | BM29: =Foglio1!C29 -> LUIGI | BN29: =Foglio1!D29 -> M
A30: =A29+1 -> 29 | B30: DI MARZO | C30: BELGIRO | D30: M | F30: L | H30: S | P30: S | AA30: S | AD30: L | AJ30: S | AM30: S | AX30: S | BH30: {=SUM(LEN(E30:BG30)-LEN(SUBSTITUTE(E30:BG30,"S","")))} -> 6 | BI30: {=SUM(LEN(E30:BG30)-LEN(SUBSTITUTE(E30:BG30,"C","")))} -> 0 | BJ30: {=SUM(LEN(E30:BG30)-LEN(SUBSTITUTE(E30:BG30,"L","")))} -> 2 | BK30: =BJ30+BI30+BH30 -> 8 | BL30: =Foglio1!B30 -> DI MARZO | BM30: =Foglio1!C30 -> BELGIRO | BN30: =Foglio1!D30 -> M
A31: =A30+1 -> 30 | B31: DI RONZA | C31: ANTONIO | D31: M | R31: C | AA31: S | AF31: C | AJ31: S | BH31: {=SUM(LEN(E31:BG31)-LEN(SUBSTITUTE(E31:BG31,"S","")))} -> 2 | BI31: {=SUM(LEN(E31:BG31)-LEN(SUBSTITUTE(E31:BG31,"C","")))} -> 2 | BJ31: {=SUM(LEN(E31:BG31)-LEN(SUBSTITUTE(E31:BG31,"L","")))} -> 0 | BK31: =BJ31+BI31+BH31 -> 4 | BL31: =Foglio1!B31 -> DI RONZA | BM31: =Foglio1!C31 -> ANTONIO | BN31: =Foglio1!D31 -> M
A32: =A31+1 -> 31 | B32: DI SANTO | C32: RAFFAELLA | D32: F | H32: S | T32: S | AA32: S | AC32: L | AH32: C | AJ32: S | BE32: S | BH32: {=SUM(LEN(E32:BG32)-LEN(SUBSTITUTE(E32:BG32,"S","")))} -> 5 | BI32: {=SUM(LEN(E32:BG32)-LEN(SUBSTITUTE(E32:BG32,"C","")))} -> 1 | BJ32: {=SUM(LEN(E32:BG32)-LEN(SUBSTITUTE(E32:BG32,"L","")))} -> 1 | BK32: =BJ32+BI32+BH32 -> 7 | BL32: =Foglio1!B32 -> DI SANTO | BM32: =Foglio1!C32 -> RAFFAELLA | BN32: =Foglio1!D32 -> F
A33: =A32+1 -> 32 | B33: di TOMMASO | C33: PASQUALE | D33: M | J33: L | P33: S | R33: C | AA33: S | AF33: C | AJ33: S | AM33: S | AX33: S | BC33: C | BE33: S | BH33: {=SUM(LEN(E33:BG33)-LEN(SUBSTITUTE(E33:BG33,"S","")))} -> 6 | BI33: {=SUM(LEN(E33:BG33)-LEN(SUBSTITUTE(E33:BG33,"C","")))} -> 3 | BJ33: {=SUM(LEN(E33:BG33)-LEN(SUBSTITUTE(E33:BG33,"L","")))} -> 1 | BK33: =BJ33+BI33+BH33 -> 10 | BL33: =Foglio1!B33 -> di TOMMASO | BM33: =Foglio1!C33 -> PASQUALE | BN33: =Foglio1!D33 -> M
A34: =A33+1 -> 33 | B34: ESCOLINO | C34: GERARDO | D34: M | G34: C | H34: S | K34: L | N34: L | P34: S | R34: C | T34: S | U34: L | AA34: S | AF34: C | AH34: C | AJ34: S | AM34: S | AX34: S | AY34: L | BE34: S | BH34: {=SUM(LEN(E34:BG34)-LEN(SUBSTITUTE(E34:BG34,"S","")))} -> 8 | BI34: {=SUM(LEN(E34:BG34)-LEN(SUBSTITUTE(E34:BG34,"C","")))} -> 4 | BJ34: {=SUM(LEN(E34:BG34)-LEN(SUBSTITUTE(E34:BG34,"L","")))} -> 4 | BK34: =BJ34+BI34+BH34 -> 16 | BL34: =Foglio1!B34 -> ESCOLINO | BM34: =Foglio1!C34 -> GERARDO | BN34: =Foglio1!D34 -> M
A35: =A34+1 -> 34 | B35: ESPOSITO | C35: ALFONSO | D35: M | P35: S | T35: S | AX35: S | BE35: S | BH35: {=SUM(LEN(E35:BG35)-LEN(SUBSTITUTE(E35:BG35,"S","")))} -> 4 | BI35: {=SUM(LEN(E35:BG35)-LEN(SUBSTITUTE(E35:BG35,"C","")))} -> 0 | BJ35: {=SUM(LEN(E35:BG35)-LEN(SUBSTITUTE(E35:BG35,"L","")))} -> 0 | BK35: =BJ35+BI35+BH35 -> 4 | BL35: =Foglio1!B35 -> ESPOSITO | BM35: =Foglio1!C35 -> ALFONSO | BN35: =Foglio1!D35 -> M
A36: =A35+1 -> 35 | B36: ESPOSITO | C36: ROSA | D36: F | P36: S | T36: S | AM36: S | BH36: {=SUM(LEN(E36:BG36)-LEN(SUBSTITUTE(E36:BG36,"S","")))} -> 3 | BI36: {=SUM(LEN(E36:BG36)-LEN(SUBSTITUTE(E36:BG36,"C","")))} -> 0 | BJ36: {=SUM(LEN(E36:BG36)-LEN(SUBSTITUTE(E36:BG36,"L","")))} -> 0 | BK36: =BJ36+BI36+BH36 -> 3 | BL36: =Foglio1!B36 -> ESPOSITO | BM36: =Foglio1!C36 -> ROSA | BN36: =Foglio1!D36 -> F
A37: =A36+1 -> 36 | B37: FABOZZI | C37: RAFFAELE | D37: M | AF37: C | AJ37: S | AK37: C | AM37: S | BH37: {=SUM(LEN(E37:BG37)-LEN(SUBSTITUTE(E37:BG37,"S","")))} -> 2 | BI37: {=SUM(LEN(E37:BG37)-LEN(SUBSTITUTE(E37:BG37,"C","")))} -> 2 | BJ37: {=SUM(LEN(E37:BG37)-LEN(SUBSTITUTE(E37:BG37,"L","")))} -> 0 | BK37: =BJ37+BI37+BH37 -> 4 | BL37: =Foglio1!B37 -> FABOZZI | BM37: =Foglio1!C37 -> RAFFAELE | BN37: =Foglio1!D37 -> M
A38: =A37+1 -> 37 | B38: FERRARA | C38: GIOVANNI | D38: M | E38: L | G38: C | H38: S | I38: L | K38: L | L38: C | P38: S | Q38: L | R38: C | T38: S | V38: L | AA38: S | AB38: L | AF38: C | AH38: C | AJ38: S | AK38: C | AL38: L | AM38: S | AN38: C | AQ38: L | AT38: C | AW38: C | AX38: S | AY38: L | BC38: C | BE38: S | BH38: {=SUM(LEN(E38:BG38)-LEN(SUBSTITUTE(E38:BG38,"S","")))} -> 8 | BI38: {=SUM(LEN(E38:BG38)-LEN(SUBSTITUTE(E38:BG38,"C","")))} -> 10 | BJ38: {=SUM(LEN(E38:BG38)-LEN(SUBSTITUTE(E38:BG38,"L","")))} -> 9 | BK38: =BJ38+BI38+BH38 -> 27 | BL38: =Foglio1!B38 -> FERRARA | BM38: =Foglio1!C38 -> GIOVANNI | BN38: =Foglio1!D38 -> M
A39: =A38+1 -> 38 | B39: GARGIULO | C39: GIOVANNA | D39: F | H39: S | K39: L | M39: L | P39: S | T39: S | AA39: S | AH39: C | AM39: S | AX39: S | BH39: {=SUM(LEN(E39:BG39)-LEN(SUBSTITUTE(E39:BG39,"S","")))} -> 6 | BI39: {=SUM(LEN(E39:BG39)-LEN(SUBSTITUTE(E39:BG39,"C","")))} -> 1 | BJ39: {=SUM(LEN(E39:BG39)-LEN(SUBSTITUTE(E39:BG39,"L","")))} -> 2 | BK39: =BJ39+BI39+BH39 -> 9 | BL39: =Foglio1!B39 -> GARGIULO | BM39: =Foglio1!C39 -> GIOVANNA | BN39: =Foglio1!D39 -> F
A40: =A39+1 -> 39 | B40: GAROFANO | C40: SILVIO | D40: M | H40: S | O40: L | Q40: L | U40: L | AA40: S | AJ40: S | AX40: S | BE40: S | BH40: {=SUM(LEN(E40:BG40)-LEN(SUBSTITUTE(E40:BG40,"S","")))} -> 5 | BI40: {=SUM(LEN(E40:BG40)-LEN(SUBSTITUTE(E40:BG40,"C","")))} -> 0 | BJ40: {=SUM(LEN(E40:BG40)-LEN(SUBSTITUTE(E40:BG40,"L","")))} -> 3 | BK40: =BJ40+BI40+BH40 -> 8 | BL40: =Foglio1!B40 -> GAROFANO | BM40: =Foglio1!C40 -> SILVIO | BN40: =Foglio1!D40 -> M
...
